BEGIN:VCALENDAR
VERSION:2.0
PRODID:-//SBORL | Sociedad Balear de Otorrinolaringología - ECPv6.2.3//NONSGML v1.0//EN
CALSCALE:GREGORIAN
METHOD:PUBLISH
X-WR-CALNAME:SBORL | Sociedad Balear de Otorrinolaringología
X-ORIGINAL-URL:https://sborl.es
X-WR-CALDESC:Eventos para SBORL | Sociedad Balear de Otorrinolaringología
REFRESH-INTERVAL;VALUE=DURATION:PT1H
X-Robots-Tag:noindex
X-PUBLISHED-TTL:PT1H
BEGIN:VTIMEZONE
TZID:Europe/Paris
BEGIN:DAYLIGHT
TZOFFSETFROM:+0100
TZOFFSETTO:+0200
TZNAME:CEST
DTSTART:20240331T010000
END:DAYLIGHT
BEGIN:STANDARD
TZOFFSETFROM:+0200
TZOFFSETTO:+0100
TZNAME:CET
DTSTART:20241027T010000
END:STANDARD
END:VTIMEZONE
BEGIN:VEVENT
DTSTART;TZID=Europe/Paris:20240404T080000
DTEND;TZID=Europe/Paris:20240405T170000
DTSTAMP:20260420T123020
CREATED:20240312T194147Z
LAST-MODIFIED:20240312T194408Z
UID:24378-1712217600-1712336400@sborl.es
SUMMARY:1er Curso Multidisciplinar teorico-practico de Otoneurologia y Rehabilitacion Vestibular
DESCRIPTION:* ESTE EVENTO NO ESTÁ ORGANIZADO POR SBORL \nObjetivos del curso\n• Conseguir destreza en la interpretación y realización de pruebas diagnósticas: VHIT\, Oculomotoras\, Posturografía dinámica\, VEMPs.\n• Aprendizaje de las maniobras terapéuticas en el VPPB.\n• Programación de ejercicios de rehabilitación: optocinético\, posturografía dinámica\, realidad virtual. Máximo de 45 personas que puedan hacer taller práctico y teoría. Hasta 15 personas más que quieran venir a la parte sólo teórica \nProfesores Invitados\nDR. A. SOTO VARELA Médico Adjunto ORL CHUS. Profesor asociado de la Univerisidade de Santiago de Compostela.\nDRA. M. E. SANTANDREU Jefe de Servicio de Rehabilitación Hospital Insular de Gran Canaria. Universidad de Las Palmas.\nDRA. DURÁ MATA Jefe de Servicio de Rehabilitación Hospital Germans Trias i Pujol\, Badalona. \nServicio de Neurofisiología PSMar: ALBA LEÓN\, PEACT\nServicio de Medicina Física i Rehabilitació PSmar.\nServicio de Neurología PSMar. \nComité Organizador\nServicio ORL Hospital del MAR – PSMar.\nDRA. PROF. Z. PIÑEIRO AGUÍN\, DR. G. PEDEMONTE SARRIAS\,\nDR. J. GARCÍA LORENZO \nServicio de Medicina Física i Rehabilitació PSMar.\nDRA. R. BOZA GÓMEZ \nServicio de Neurología PSMar.\nDRA. A. FERNÁNDEZ LEBRERO \n  \nPrograma\n  \n  \n* Los contenidos de esta Web tienen una finalidad básicamente informativa y dirigida a un público en general. El acceso a esta información\, no garantiza que la misma\, así como sus textos\, gráficos o vínculos\, sean exactos o completos. SBORL\, no se hace responsable de los cualquier cambio que se produzca en dicho evento\, para mas información póngase en contacto con la empresa organizadora del evento.
URL:https://sborl.es/event/1er-curso-multidisciplinar-teorico-practico-de-otoneurologia-y-rehabilitacion-vestibular/
LOCATION:Hospital del Mar\, C/ Dr. Aiguader 88\, Barcelona\, 08003\, España
CATEGORIES:Cursos
ATTACH;FMTTYPE=image/jpeg:https://sborl.es/wp-content/uploads/2021/10/bcn-agua.jpg
END:VEVENT
BEGIN:VEVENT
DTSTART;TZID=Europe/Paris:20240405T080000
DTEND;TZID=Europe/Paris:20240406T170000
DTSTAMP:20260420T123020
CREATED:20240320T083033Z
LAST-MODIFIED:20240320T083346Z
UID:24386-1712304000-1712422800@sborl.es
SUMMARY:IV Jornada de dispositivos implantables
DESCRIPTION:* ESTE EVENTO NO ESTÁ ORGANIZADO POR SBORL \nLaboratorio de Disección de Hueso Temporal.\nInstituto Oto Vértigo. \nCalle de Jorge Juan\, 94. 28009. Madrid. METRO GOYA\, O`DONNELL. \nMáximo 8 asistentes\, repartidos en dos grupos de 4 personas. \nDIRECTOR DEL CURSO: Dr. Rubén Polo \nCOLABORADORES: Dr. Pedro Amaro \n 
URL:https://sborl.es/event/iv-jornada-de-dispositivos-implantables/
LOCATION:Laboratorio de Disección de Hueso Temporal. Instituto Oto Vértigo.\, Calle de Jorge Juan\, 94\, Madrid\, 28009\, España
CATEGORIES:Cursos
ATTACH;FMTTYPE=image/png:https://sborl.es/wp-content/uploads/2017/10/hueso_temporal.png
END:VEVENT
BEGIN:VEVENT
DTSTART;TZID=Europe/Paris:20240408T080000
DTEND;TZID=Europe/Paris:20240408T170000
DTSTAMP:20260420T123020
CREATED:20240320T084305Z
LAST-MODIFIED:20240320T084305Z
UID:24390-1712563200-1712595600@sborl.es
SUMMARY:Abordaje Multidisciplinar en el diagnostico y tratamiento de la apnea obstructiva del sueno (AOS). III edicion
DESCRIPTION:* ESTE EVENTO NO ESTÁ ORGANIZADO POR SBORL \nLa prevalencia de la Apnea Obstructiva del Sueño (AOS) y su elevadísima repercusión sociosanitaria ha generado una gran demanda de formación desde las diferentes especialidades involucradas. En este sentido\, el abordaje multidisciplinar y las diferentes perspectivas que aportan la multitud de áreas relacionadas\, son indispensables para un abordaje individualizado\, con especial relevancia en el conocimiento y elección de las diferentes opciones terapéuticas.\nEn esta aproximación a la apnea obstructiva del sueño (AOS) participaremos especialistas de muchas de las áreas implicadas con una perspectiva de trabajo clínico diario que nos permita la adquisición de habilidades y competencias en el diagnóstico y tratamiento\, con una visión práctica\, amena y concisa\, que resuelvan los interrogantes\, controversias y dudas que genera esta patología. Tras esta inmersión general se diseñarán cursos específicos por áreas de interés\, que permitan completar y profundizar en las partes más específicas de cada especialidad.\nEl curso cuenta con el Reconocimiento de la Sociedad Española de Neumología y Cirugía Torácica (SEPAR)\, y de la Sociedad Española de Medicina Dental del Sueño (SEMDeS). \nFormato del curso\nCurso estructurado en 6 módulos y 19 unidades docentes.\nDirectores:\n* Dr. José Ramón Alonso Peña\n* Dra. Mónica González\n* Dr. Emilio Macías Escalada\n* Lcdo. José Adserias \n  \nPrograma\n  \n  \n* Los contenidos de esta Web tienen una finalidad básicamente informativa y dirigida a un público en general. El acceso a esta información\, no garantiza que la misma\, así como sus textos\, gráficos o vínculos\, sean exactos o completos. SBORL\, no se hace responsable de los cualquier cambio que se produzca en dicho evento\, para mas información póngase en contacto con la empresa organizadora del evento.
URL:https://sborl.es/event/abordaje-multidisciplinar-en-el-diagnostico-y-tratamiento-de-la-apnea-obstructiva-del-sueno-aos-iii-edicion/
LOCATION:Asturias
CATEGORIES:Cursos
ATTACH;FMTTYPE=image/jpeg:https://sborl.es/wp-content/uploads/2020/03/Salamanca.jpg
END:VEVENT
BEGIN:VEVENT
DTSTART;TZID=Europe/Paris:20240415T080000
DTEND;TZID=Europe/Paris:20240416T170000
DTSTAMP:20260420T123020
CREATED:20240320T091506Z
LAST-MODIFIED:20240320T091506Z
UID:24392-1713168000-1713286800@sborl.es
SUMMARY:Temporal Bone Dissection Course
DESCRIPTION:* This event is not organized by SBORL. \nThe Clínica Clarós Temporal Bone Dissection Courses seeks to bring practicing ENT Trainees and Specialists up to date with the latest techniques in ear surgery. Faculty will provide lectures on temporal bone anatomy\, ear surgery techniques\, cochlear implantation\, middle ear and skull base surgery and will engage in stimulating discussions and dissection demonstrations. Under the guidance of faculty\, course participants will perform dissections on two fresh temporal bones. Since 1983 we have had the oportunity of training more than 2100 ORL Residents & Specialists from Spain and all over the world. It is the ideal opportunity to be taught by\, as well as participating in temporal bone dissection lab. We know what each participant needs.\n1st DAY: Dissection of right temporal bone under the strict supervision of the Professor. 2nd DAY: Finishing the dissection of the right temporal bone and train your drilling skils by yourself on the Left Temporal Bone\, with the help of Professor if is needed.\nPlazas limitadas. \nSede: Permanent Instructional Anatomical Laboratory. Centro Médico-Dental Clarós (Grupo Clarós).\nCalle Rajoleria\, 12 – 08840 Viladecans (Barcelona). \n 
URL:https://sborl.es/event/temporal-bone-dissection-course-5/
LOCATION:Centro Médico-Dental Clarós.\, Calle Rajoleria\, 12\, Barcelona\, 08840\, España
CATEGORIES:Cursos
ATTACH;FMTTYPE=image/jpeg:https://sborl.es/wp-content/uploads/2021/10/bcn-agua.jpg
END:VEVENT
BEGIN:VEVENT
DTSTART;TZID=Europe/Paris:20240416T080000
DTEND;TZID=Europe/Paris:20240417T170000
DTSTAMP:20260420T123020
CREATED:20240320T092052Z
LAST-MODIFIED:20240320T093015Z
UID:24384-1713254400-1713373200@sborl.es
SUMMARY:VIII Curso de Cirugia de Tiroides y Diseccion Cervical
DESCRIPTION:* ESTE EVENTO NO ESTÁ ORGANIZADO POR SBORL \nDestinatarios\nOtorrinolaringólogos.\nResidentes de Otorrinolaringología. \nOrganiza \n– Servicio de Otorrinolaringología y Cirugía de cabeza y cuello del Hospital Clínico Universitario de Valladolid.\n– Instituto de Ciencias de la Salud de Castilla y León (ICSCYL). \nDirectores\nDr. Jaime Santos Pérez\nDr. Luis Miguel Torres Morientes\nProf. J. F. Pastor Vázquez Fechas\, \nDuración y Formato\n16 y 17 de abril de 2024\n22 horas\nCharlas teóricas y cirugía en directo.\nAsistencia a quirófano.\nDossier con videos disección\, casos quirúrgicos.\nDisección de una cabeza criopreservada cada 2 participantes. \nLugar\n– Aula del Servicio de ORL. Hospital Clínico Universitario de Valladolid.\nC/ Ramón y Cajal 3. Valladolid.\n– Dpto. Anatomía y Radiología. Facultad de Medicina.\nC/ Ramón y Cajal 7. Valladolid \n  \nPrograma\n  \n  \n* Los contenidos de esta Web tienen una finalidad básicamente informativa y dirigida a un público en general. El acceso a esta información\, no garantiza que la misma\, así como sus textos\, gráficos o vínculos\, sean exactos o completos. SBORL\, no se hace responsable de los cualquier cambio que se produzca en dicho evento\, para mas información póngase en contacto con la empresa organizadora del evento.
URL:https://sborl.es/event/viii-curso-de-cirugia-de-tiroides-y-diseccion-cervical/
LOCATION:Hospital Clínico Universitario de Valladolid.\, C/ Ramón y Cajal 3.\, Valladolid\, Valladolid
ATTACH;FMTTYPE=image/jpeg:https://sborl.es/wp-content/uploads/2018/09/valladolid.jpg
END:VEVENT
BEGIN:VEVENT
DTSTART;TZID=Europe/Paris:20240418T080000
DTEND;TZID=Europe/Paris:20240419T170000
DTSTAMP:20260420T123020
CREATED:20240320T092741Z
LAST-MODIFIED:20240320T092741Z
UID:24395-1713427200-1713546000@sborl.es
SUMMARY:XVII Jornadas de Actualizacion en Cirugia Endoscopica Nasosinusal
DESCRIPTION:* ESTE EVENTO NO ESTÁ ORGANIZADO POR SBORL \nDestinatarios\nOtorrinolaringólogos.\nResidentes de Otorrinolaringología. \nOrganiza\n– Servicio de Otorrinolaringología y Cirugía de cabeza y cuello del Hospital Clínico Universitario de Valladolid.\n– Instituto de Ciencias de la Salud de Castilla y León (ICSCYL). \nDirectores\nDr. Jaime Santos Pérez\nDr. Luis Miguel Torres Morientes\nProf. J. F. Pastor Vázquez Fechas\,  \nDuración y Formato\n18 y 19 de abril de 2024\n22 horas\nCharlas teóricas y cirugía en directo.\nAsistencia a quirófano.\nDossier con videos disección\, casos quirúrgicos.\nDisección de una cabeza criopreservada cada 2 participantes. \nLugar\n– Aula del Servicio de ORL. Hospital Clínico Universitario de Valladolid.\nC/ Ramón y Cajal 3. Valladolid.\n– Dpto. Anatomía y Radiología. Facultad de Medicina.\nC/ Ramón y Cajal 7. Valladolid \n  \nPrograma\n  \n  \n* Los contenidos de esta Web tienen una finalidad básicamente informativa y dirigida a un público en general. El acceso a esta información\, no garantiza que la misma\, así como sus textos\, gráficos o vínculos\, sean exactos o completos. SBORL\, no se hace responsable de los cualquier cambio que se produzca en dicho evento\, para mas información póngase en contacto con la empresa organizadora del evento.
URL:https://sborl.es/event/xvii-jornadas-de-actualizacion-en-cirugia-endoscopica-nasosinusal/
LOCATION:Aula del Servicio de ORL. Hospital Clínico Universitario de Valladolid.\, C/ Ramón y Cajal 3\, Valladolid\, valladolid\, España
CATEGORIES:Cursos
ATTACH;FMTTYPE=image/jpeg:https://sborl.es/wp-content/uploads/2022/03/valladolid_20.jpg
END:VEVENT
BEGIN:VEVENT
DTSTART;TZID=Europe/Paris:20240418T080000
DTEND;TZID=Europe/Paris:20240419T170000
DTSTAMP:20260420T123020
CREATED:20240320T093457Z
LAST-MODIFIED:20240320T093525Z
UID:24399-1713427200-1713546000@sborl.es
SUMMARY:Reunión de primavera de la comision de oncologia y cirugia de cabeza y cuello de la SEORL
DESCRIPTION:* ESTE EVENTO NO ESTÁ ORGANIZADO POR SBORL \nDesde la Comisión de Oncología y Cirugía de Cabeza y Cuello os queremos invitar a la VII Reunión de Primavera que se celebrará en Palma de Mallorca los días 18 y 19 de abril de 2024.\nContaremos con un profesorado de alto nivel nacional. ¡Formato 100% presencial! \n 
URL:https://sborl.es/event/reunion-de-primavera-de-la-comision-de-oncologia-y-cirugia-de-cabeza-y-cuello-de-la-seorl/
LOCATION:Auditorium Palma de Mallorca\, Av. de Gabriel Roca\, 18\, palma de mallorca\, 07014
CATEGORIES:Reunión
ATTACH;FMTTYPE=image/jpeg:https://sborl.es/wp-content/uploads/2015/11/Mallorca.jpg
END:VEVENT
BEGIN:VEVENT
DTSTART;TZID=Europe/Paris:20240419T080000
DTEND;TZID=Europe/Paris:20240420T170000
DTSTAMP:20260420T123020
CREATED:20240320T093722Z
LAST-MODIFIED:20240320T093743Z
UID:24403-1713513600-1713632400@sborl.es
SUMMARY:XXI Curso de Microcirugía Vasculonerviosa
DESCRIPTION:* ESTE EVENTO NO ESTÁ ORGANIZADO POR SBORL \nPREINSCRIPCIÓN\nLos interesados pueden formalizar su preinscripción dirigiéndose a la Dra. Carmen Calles:\nCorreo electrónico: carmen.calles@ufv.es\nTelf.: 91 709 14 00. Ext: 1761 \n 
URL:https://sborl.es/event/xxi-curso-de-microcirugia-vasculonerviosa/
LOCATION:Asturias
CATEGORIES:Cursos
ATTACH;FMTTYPE=image/jpeg:https://sborl.es/wp-content/uploads/2021/05/Madrid.jpg
END:VEVENT
BEGIN:VEVENT
DTSTART;TZID=Europe/Paris:20240430T080000
DTEND;TZID=Europe/Paris:20240505T170000
DTSTAMP:20260420T123020
CREATED:20240422T072148Z
LAST-MODIFIED:20240422T072148Z
UID:24405-1714464000-1714928400@sborl.es
SUMMARY:73º. Congreso Nacional de la Sociedad Mexicana de Otorrinolaringologia y Cirugia de Cabeza y Cuello
DESCRIPTION:* ESTE EVENTO NO ESTÁ ORGANIZADO POR SBORL \nEstimados colegas y congresistas:\n El LXXIII Congreso Nacional de la Sociedad Mexicana de Otorrinolaringología y Cirugía de Cabeza y Cuello 2024 está a pocas semanas de dar inicio. Nuevamente externo mi agradecimiento a toda la membresía por haber confiado en un servidor para esta honorable encomienda.\n El comité organizador del congreso SMORLCCC-Guadalajara 2024 se encuentra afinando los últimos detalles del programa académico\, la evaluación de trabajos libres y carteles\, las actividades especiales que se realizarán durante el congreso y toda una oferta académica que tendremos para ustedes\, las cuales esperamos sean de su agrado. Hemos intentado cubrir todas las áreas que maneja la Otorrinolaringología y la Cirugía de Cabeza y Cuello a través de un ambicioso programa\, donde participan connotados especialistas mexicanos y un selecto grupo de profesores internacionales y de quienes estamos seguros nos brindarán generosamente sus conocimientos para tener una excelente actualización de nuestra especialidad.\n Entre algunas de las novedades con las que contaremos están la realización de Jornadas Académicas transcongreso sobre áreas muy específicas de especialidad\, colaboraciones especiales con asociaciones nacionales e internacionales afines\, así como talleres dirigidos donde el congresista podrá mejorar y ampliar sus conocimientos en el área. Todas ellas con valor curricular extra.\n La tecnología avanza constantemente y este congreso tiene el objetivo de ser amigable con el medio ambiente\, por lo que limitaremos el uso de papel\, a través de carteles digitales\, uso de la app del congreso\, transmisión en vivo del programa diario así como de las noticias más relevantes del congreso y la entrega de constancias de participación y asistencia vía electrónica.  \nHemos preparado también un programa de actividades que permitirán la convivencia y participación de los congresistas\, profesores y acompañantes\, los cuales esperamos sean de su agrado y donde les invitamos a que nos acompañen.\n Deseo agradecer el apoyo de los integrantes del Comité Organizador de este congreso\, quienes se han sumado a este proyecto y han dado lo mejor de sí trabajando arduamente para la planificación y organización del congreso. Agradezco también a toda la comunidad de otorrinolaringólogos del estado de Jalisco\, que nos han apoyado enormemente en la organización y logística de este evento. Y finalmente\, el apoyo de la industria farmacéutica\, quienes han confiado en este proyecto y en las propuestas que juntos hemos generado para ustedes y sin la cual no podríamos realizar estas actividades. \nYa está casi todo listo\, y la ciudad de Guadalajara nos espera con los brazos abiertos junto con su cultura\, sus tradiciones y su gente. Estamos seguros de que el LXXIII Congreso SMORLCCC-Guadalajara 2024 se sumará a la lista de los grandes eventos que caracterizan a nuestra sociedad.\n Un abrazo y un saludo a todos ustedes\, y los esperamos en Guadalajara del 30 de abril al 5 de mayo de 2024 \n 
URL:https://sborl.es/event/73o-congreso-nacional-de-la-sociedad-mexicana-de-otorrinolaringologia-y-cirugia-de-cabeza-y-cuello/
LOCATION:Guadalajara\, Guadalajara\, México
CATEGORIES:Congresos
ATTACH;FMTTYPE=image/jpeg:https://sborl.es/wp-content/uploads/2024/04/mexico.jpg
END:VEVENT
END:VCALENDAR