BEGIN:VCALENDAR
VERSION:2.0
PRODID:-//SBORL | Sociedad Balear de Otorrinolaringología - ECPv6.2.3//NONSGML v1.0//EN
CALSCALE:GREGORIAN
METHOD:PUBLISH
X-WR-CALNAME:SBORL | Sociedad Balear de Otorrinolaringología
X-ORIGINAL-URL:https://sborl.es
X-WR-CALDESC:Eventos para SBORL | Sociedad Balear de Otorrinolaringología
REFRESH-INTERVAL;VALUE=DURATION:PT1H
X-Robots-Tag:noindex
X-PUBLISHED-TTL:PT1H
BEGIN:VTIMEZONE
TZID:Europe/Paris
BEGIN:DAYLIGHT
TZOFFSETFROM:+0100
TZOFFSETTO:+0200
TZNAME:CEST
DTSTART:20250330T010000
END:DAYLIGHT
BEGIN:STANDARD
TZOFFSETFROM:+0200
TZOFFSETTO:+0100
TZNAME:CET
DTSTART:20251026T010000
END:STANDARD
END:VTIMEZONE
BEGIN:VEVENT
DTSTART;TZID=Europe/Paris:20250312T080000
DTEND;TZID=Europe/Paris:20250314T170000
DTSTAMP:20260420T134103
CREATED:20241125T044348Z
LAST-MODIFIED:20241125T044415Z
UID:24545-1741766400-1741971600@sborl.es
SUMMARY:XVIII Curso-Simposio sobre Implantes Cocleares de la Universidad de Navarra
DESCRIPTION:* ESTE EVENTO NO ESTÁ ORGANIZADO POR SBORL \nXVIII CURSO-SIMPOSIO SOBRE IMPLANTES COCLEARES\nObjetivos Este Curso sobre Implantes Cocleares (IC)\, de carácter presencial\, constituye la decimoctava edición de una serie que desde 1990 viene organizando la Universidad de Navarra. En la actualidad el tratamiento de la hipoacusia con implantes cocleares ya ha adquirido un grado de madurez\, pero no obstante se siguen produciendo numerosas novedades que afectan a aspectos tecnológicos\, médicos\, logopédicos\, educativos\, sociales y laborales. \nLos principales temas serán: técnicas de exploración de la vía auditiva pre\, peri y post implantación\, novedades en sistemas implantables auditivos\, importancia en la estimulación temprana de la vía auditiva en los dos extremos de la vida (menores de 1 año y ancianos)\, estimulación bilateral del sistema auditivo (IC en hipoacusias asimétricas e hipoacusias unilaterales\, IC bilaterales)\, nuevas estrategias en el tratamiento de la hipoacusia\, cirugía del oído interno\, implantes vestibulares\, programación\, atención a distancia\, modelos de rehabilitación-educación en IC\, bilingüismo en niños con IC\, instrumentos para la monitorización de resultados\, resultados a largo plazo y complicaciones\, y asesoramiento de padres antes y después de la implantación. \nPrograma\n  \n  \n* Los contenidos de esta Web tienen una finalidad básicamente informativa y dirigida a un público en general. El acceso a esta información\, no garantiza que la misma\, así como sus textos\, gráficos o vínculos\, sean exactos o completos. SBORL\, no se hace responsable de los cualquier cambio que se produzca en dicho evento\, para mas información póngase en contacto con la empresa organizadora del evento.
URL:https://sborl.es/event/xviii-curso-simposio-sobre-implantes-cocleares-de-la-universidad-de-navarra/
LOCATION:Clínica Universidad de Navarra\, Av. Pío XII\, 36\, Pamplona\, Navarra\, 31008\, España
CATEGORIES:Cursos
ATTACH;FMTTYPE=image/jpeg:https://sborl.es/wp-content/uploads/2022/07/pamplona.jpeg
END:VEVENT
END:VCALENDAR