BEGIN:VCALENDAR
VERSION:2.0
PRODID:-//SBORL | Sociedad Balear de Otorrinolaringología - ECPv6.2.3//NONSGML v1.0//EN
CALSCALE:GREGORIAN
METHOD:PUBLISH
X-ORIGINAL-URL:https://sborl.es
X-WR-CALDESC:Eventos para SBORL | Sociedad Balear de Otorrinolaringología
REFRESH-INTERVAL;VALUE=DURATION:PT1H
X-Robots-Tag:noindex
X-PUBLISHED-TTL:PT1H
BEGIN:VTIMEZONE
TZID:Europe/Paris
BEGIN:DAYLIGHT
TZOFFSETFROM:+0100
TZOFFSETTO:+0200
TZNAME:CEST
DTSTART:20250330T010000
END:DAYLIGHT
BEGIN:STANDARD
TZOFFSETFROM:+0200
TZOFFSETTO:+0100
TZNAME:CET
DTSTART:20251026T010000
END:STANDARD
END:VTIMEZONE
BEGIN:VEVENT
DTSTART;TZID=Europe/Paris:20250207T080000
DTEND;TZID=Europe/Paris:20250208T170000
DTSTAMP:20260420T150318
CREATED:20241125T045158Z
LAST-MODIFIED:20241125T045158Z
UID:24548-1738915200-1739034000@sborl.es
SUMMARY:113th Temporal Bone Dissection Course
DESCRIPTION:* ESTE EVENTO NO ESTÁ ORGANIZADO POR SBORL \nThe Clínica Clarós Temporal Bone Dissection Courses seeks to bring practicing ENT Trainees and Specialists up to date with the latest techniques in ear surgery. Faculty will provide lectures on temporal bone anatomy\, ear surgery techniques\, cochlear implantation\, middle ear and skull base surgery and will engage in stimulating discussions and dissection demonstrations. Under the guidance of faculty\, course participants will perform dissections on two fresh temporal bones. Since 1983 we have had the oportunity of training more than 2100 ORL Residents & Specialists from Spain and all over the world.\n It is the ideal opportunity to be taught by\, as well as participating in temporal bone dissection lab. We know what each participant needs. \n1st DAY: Dissection of right temporal bone under the strict supervision of the Professor. 2nd DAY: Finishing the dissection of the right temporal bone and train your drilling skils by yourself on the Left Temporal Bone\, with the help of Professor if is needed. \nPlazas limitadas. \nSede: Permanent Instructional Anatomical Laboratory. Centro Médico-Dental Clarós (Grupo Clarós).\nCalle Rajoleria\, 12 – 08840 Viladecans (Barcelona).  \nMás información: https://www.clinicaclaros.com/formacion/\n  \nSECRETARIAT Clínica Clarós. Course Department C/ Los Vergós\, 29-31 08017 Barcelona Tel. +34 932031212 Email: clinica@clinicaclaros.com
URL:https://sborl.es/event/113th-temporal-bone-dissection-course/
LOCATION:Centro Médico-Dental Clarós\, Calle Rajoleria\, 12\, VILADECANS\, Barcelona\, 08840
CATEGORIES:Cursos
ATTACH;FMTTYPE=image/jpeg:https://sborl.es/wp-content/uploads/2021/10/bcn-agua.jpg
END:VEVENT
BEGIN:VEVENT
DTSTART;TZID=Europe/Paris:20250207T200000
DTEND;TZID=Europe/Paris:20250207T210000
DTSTAMP:20260420T150319
CREATED:20241219T080713Z
LAST-MODIFIED:20250103T112257Z
UID:24553-1738958400-1738962000@sborl.es
SUMMARY:REUNION SAN BLAS 2025 | Inteligencia artificial  aplicada a la medicina y ORL
DESCRIPTION:Inteligencia artificial aplicada a la medicina y ORL\nEstimados socios y compañeros\, \nSe aproxima la festividad de nuestro patrón y\, como cada año\, el momento de reunirnos para celebrar juntos. Es una fecha para agradecer a San Blas por permitirnos este encuentro y disfrutar de una velada agradable. \nEste año tenemos el honor de contar con la presencia del Dr. Nitzan Kenig\, quien nos ofrecerá una ponencia sobre un tema apasionante y de actualidad: la Inteligencia Artificial (IA). El Dr. Kenig\, cirujano plástico con sede en Mallorca\, es un destacado investigador en IA y graduado en Medicina por la Universidad de Granada. \nEs miembro de la SECPRE y la SBCPRE\, y está especializado en la aplicación de la IA en cirugía plástica. Su destacada producción científica incluye publicaciones en revistas de renombre como Plastic and Reconstructive Surgery (PRS)\, donde recibió en 2024 el premio al mejor artículo tecnológico de su filial PRS GO. Además\, es un reconocido ponente a nivel nacional e internacional\, con participación activa en conferencias sobre IA en medicina. También colabora como revisor y miembro de comités editoriales en revistas científicas. \nEl Dr. Kenig posee dos títulos de máster y actualmente está realizando un doctorado en IA aplicada a la cirugía plástica. Ejerce en el Instituto Rubí\, parte del Hospital Quirónsalud Palmaplanas en Mallorca. \nTras la ponencia\, disfrutaremos de una cena que será una oportunidad perfecta para compartir experiencias y reencontrarnos con compañeros de todas las islas: Mallorca\, Menorca\, Ibiza y Formentera. \nOs esperamos a todos el próximo 7 de febrero. Será un placer contar con vuestra presencia. \nPrograma\n  \n  \n  \n  \nLugar: INNSiDE by Meliá Palma Bosque\nCarrer Camilo José Cela\, 5\, Ponent\, 07014 Palma\, Illes Balears \n  \nHora: 20.00h\nSe celebrará la charla a las 20.00h y posteriormente una cena-coctel a cargo del patrocinador Aural. \n  \nRecibir un cordial saludo \n  \nJunta de la SBORL \nCarlos Magri \nPresidente
URL:https://sborl.es/event/reunion-san-blas-2025-feminizacion-y-masculinizacion-de-la-voz/
LOCATION:Hospital Vital Álvarez Buylla\, Av. del Camino\, Santullano\, Asturias\, 33619\, España
CATEGORIES:Cursos,Evento SBORL,Reunión
ATTACH;FMTTYPE=image/jpeg:https://sborl.es/wp-content/uploads/2024/12/Reu-Sborl-2025.jpg
END:VEVENT
END:VCALENDAR