BEGIN:VCALENDAR
VERSION:2.0
PRODID:-//SBORL | Sociedad Balear de Otorrinolaringología - ECPv6.2.3//NONSGML v1.0//EN
CALSCALE:GREGORIAN
METHOD:PUBLISH
X-ORIGINAL-URL:https://sborl.es
X-WR-CALDESC:Eventos para SBORL | Sociedad Balear de Otorrinolaringología
REFRESH-INTERVAL;VALUE=DURATION:PT1H
X-Robots-Tag:noindex
X-PUBLISHED-TTL:PT1H
BEGIN:VTIMEZONE
TZID:Europe/Paris
BEGIN:DAYLIGHT
TZOFFSETFROM:+0100
TZOFFSETTO:+0200
TZNAME:CEST
DTSTART:20240331T010000
END:DAYLIGHT
BEGIN:STANDARD
TZOFFSETFROM:+0200
TZOFFSETTO:+0100
TZNAME:CET
DTSTART:20241027T010000
END:STANDARD
END:VTIMEZONE
BEGIN:VEVENT
DTSTART;TZID=Europe/Paris:20241126T080000
DTEND;TZID=Europe/Paris:20241129T170000
DTSTAMP:20260420T180054
CREATED:20240312T192642Z
LAST-MODIFIED:20240312T192642Z
UID:24374-1732608000-1732899600@sborl.es
SUMMARY:XXVIII Curso de Cirugia Otologica y Diseccion del Hueso Temporal
DESCRIPTION:* ESTE EVENTO NO ESTÁ ORGANIZADO POR SBORL \nObjetivos Tras años de experiencia\, los Cursos de Cirugía Otológica y Disección del Hueso Temporal cambian su formato con la pretensión de aportar al asistente una formación más completa\, actualizada e innovadora de los procesos otológicos más comunes y las soluciones quirúrgicas que se pueden plantear. Para ello se ha dividido el curso en tres bloques bien diferenciados que permiten un aprendizaje progresivo\, exhaustivo\, detallado y profundo de las distintas patologias y técnicas quirúrgicas. En un primer bloque teórico se realiza una actualización de las patologías y cirugías más controvertidas\, en las que la Sección de Otologia dispone de una dilatada experiencia\, presentando exposiciones dinámicas apoyadas en material audiovisual y en la discusión de casos clínicos que fomentan el debate. En el segundo bloque se procede a una disección sistemática del hueso temporal\, guiada paso a paso y orientada no sólo al conocimiento anatómico\, sino a la realización de distintas técnicas quirúrgicas que se pueden trasladar a la práctica médica diaria\, incluyendo entrenamiento en la inserción de electrodos de implante coclear y un taller de dispositivos osteointegrados. Se completa la disección con videos explicativos y exposiciones anatómicas en 3D. Los asistentes dispondrán de una Guía digital de disección que puede ser consultada desde el propio puesto de trabajo y se entrenarán en realizar una planificación quirúrgica que permite una disección virtual de los casos a través de reconstrucciones 3D obtenidas por diferentes programas informáticos partiendo de imágenes DICOM del TAC. El último bloque mostrará la puesta en práctica de los conocimientos adquiridos en los dias previos mediante la realización de cirugía en directo de las técnicas de mayor interés\, como el implante coclear y la cirugía del \nProfesorado\nFrancisco Aguilar Vera. Hospital Universitario Virgen Macarena. Sevilla.\nCristina Alonso González. Hospital Universitario Virgen Macarena. Sevilla.\nJesús Ambrosiani Fernández. Profesor Titular de Anatomía Humana. Universidad de Sevilla.\nEstefanía Berrocal Postigo. Hospital Universitario Virgen Macarena. Sevilla.\nFrancisco Ropero Romero. Hospital Universitario Virgen Macarena. Sevilla.\nSerafín Sánchez Gómez. Hospital Universitario Virgen Macarena. Sevilla \n  \nPrograma\n  \n  \n* Los contenidos de esta Web tienen una finalidad básicamente informativa y dirigida a un público en general. El acceso a esta información\, no garantiza que la misma\, así como sus textos\, gráficos o vínculos\, sean exactos o completos. SBORL\, no se hace responsable de los cualquier cambio que se produzca en dicho evento\, para mas información póngase en contacto con la empresa organizadora del evento.
URL:https://sborl.es/event/xxviii-curso-de-cirugia-otologica-y-diseccion-del-hueso-temporal/
LOCATION:Laboratorio de Entrenamiento y Simulación Quirúrgica del Servicio de Otorrinolaringología. Departamento de Anatomía y Embriología Humanas de la Universidad de Sevilla\, Avenida Sánchez Pizjuán\, Sevilla\, 41009\, España
CATEGORIES:Cursos
ATTACH;FMTTYPE=image/jpeg:https://sborl.es/wp-content/uploads/2019/04/sevilla.jpg
END:VEVENT
END:VCALENDAR