BEGIN:VCALENDAR
VERSION:2.0
PRODID:-//SBORL | Sociedad Balear de Otorrinolaringología - ECPv6.2.3//NONSGML v1.0//EN
CALSCALE:GREGORIAN
METHOD:PUBLISH
X-ORIGINAL-URL:https://sborl.es
X-WR-CALDESC:Eventos para SBORL | Sociedad Balear de Otorrinolaringología
REFRESH-INTERVAL;VALUE=DURATION:PT1H
X-Robots-Tag:noindex
X-PUBLISHED-TTL:PT1H
BEGIN:VTIMEZONE
TZID:Europe/Paris
BEGIN:DAYLIGHT
TZOFFSETFROM:+0100
TZOFFSETTO:+0200
TZNAME:CEST
DTSTART:20240331T010000
END:DAYLIGHT
BEGIN:STANDARD
TZOFFSETFROM:+0200
TZOFFSETTO:+0100
TZNAME:CET
DTSTART:20241027T010000
END:STANDARD
END:VTIMEZONE
BEGIN:VEVENT
DTSTART;TZID=Europe/Paris:20241017T080000
DTEND;TZID=Europe/Paris:20241019T170000
DTSTAMP:20260422T153635
CREATED:20240924T050611Z
LAST-MODIFIED:20240924T050611Z
UID:24520-1729152000-1729357200@sborl.es
SUMMARY:2nd European Sleep Surgery Academy Course
DESCRIPTION:* ESTE EVENTO NO ESTÁ ORGANIZADO POR SBORL \nThe European Sleep Surgery Academy (ESSA) was founded by international recognized European sleep physicians with an extraordinary expertise in sleep surgery in cooperation with Neuwirth Medical Concepts. The intention of ESSA is to provide innovative therapeutical solutions for ENT surgeons within Europe.\nThe field of surgical treatments of sleep-disordered breathing is emerging with a lot of ground-breaking innovation which will be focused in the Europe-wide events: the scope is covering the screening of proper candidates for specific non-CPAP treatments and the attempt to provide an insight in the current state of affairs on surgical treatment of snoring and OSA.\nIn 2023 1st European Sleep Surgery Academy Course was provided by the University and University hospital of Antwerp\, chaired by Prof. Dr. Olivier Vanderveken.\nDue to the extremely high interest and positive feedback we feel encouraged to continue this sucessfull event in 2024 and offering 2nd ESSA from october 17th to 19th 2024 in cooperation with the University of Valencia. With most current topics and interesting practical exercises\, also in the dissection room\, the scientific faculty\, chaired by Marina Carrasco-LLatas provides high-level scientific and practical knowledge. \n  \n Programa \n  \n  \n* Los contenidos de esta Web tienen una finalidad básicamente informativa y dirigida a un público en general. El acceso a esta información\, no garantiza que la misma\, así como sus textos\, gráficos o vínculos\, sean exactos o completos. SBORL\, no se hace responsable de los cualquier cambio que se produzca en dicho evento\, para mas información póngase en contacto con la empresa organizadora del evento.
URL:https://sborl.es/event/2nd-european-sleep-surgery-academy-course/
LOCATION:Asturias
CATEGORIES:Cursos
ATTACH;FMTTYPE=image/png:https://sborl.es/wp-content/uploads/2017/04/Valencia-congreso5.png
END:VEVENT
END:VCALENDAR