BEGIN:VCALENDAR
VERSION:2.0
PRODID:-//SBORL | Sociedad Balear de Otorrinolaringología - ECPv6.2.3//NONSGML v1.0//EN
CALSCALE:GREGORIAN
METHOD:PUBLISH
X-WR-CALNAME:SBORL | Sociedad Balear de Otorrinolaringología
X-ORIGINAL-URL:https://sborl.es
X-WR-CALDESC:Eventos para SBORL | Sociedad Balear de Otorrinolaringología
REFRESH-INTERVAL;VALUE=DURATION:PT1H
X-Robots-Tag:noindex
X-PUBLISHED-TTL:PT1H
BEGIN:VTIMEZONE
TZID:Europe/Paris
BEGIN:DAYLIGHT
TZOFFSETFROM:+0100
TZOFFSETTO:+0200
TZNAME:CEST
DTSTART:20240331T010000
END:DAYLIGHT
BEGIN:STANDARD
TZOFFSETFROM:+0200
TZOFFSETTO:+0100
TZNAME:CET
DTSTART:20241027T010000
END:STANDARD
END:VTIMEZONE
BEGIN:VEVENT
DTSTART;TZID=Europe/Paris:20240607T080000
DTEND;TZID=Europe/Paris:20240607T170000
DTSTAMP:20260422T171708
CREATED:20240527T065737Z
LAST-MODIFIED:20240527T065737Z
UID:24444-1717747200-1717779600@sborl.es
SUMMARY:SORLA XI Jornadas de ORL avanzada y patologia cervico-facial
DESCRIPTION:* ESTE EVENTO NO ESTÁ ORGANIZADO POR SBORL \nEstimados socios\,\nEs un placer presentar estas XI JORNADAS DE OTORRINOLARINGOLOGÍA AVANZADA Y PATOLOGÍA CERVICO-FACIAL DE LA SOCIEDAD ANDALUZA Y EXTREMEÑA DE ORL con nuestros MIR como protagonistas. La Junta Directiva de la SORLA es consciente de la importancia de la formación de los residentes de ORL y de su relevancia\, tanto en la actualidad de los hospitales andaluces como en el futuro que representan para la medicina pública y privada. Estas reuniones pretenden reflejar sus inquietudes y anhelos y ofrecer un punto de diálogo para ellos\, por lo que se incluye por primera vez una Comisión específica de MIR y tutores. Además\, nos enriqueceremos al compartir el encuentro con los compañeros de la Sociedad Extremeña de ORL.\nUn afectuoso saludo. \n  \nMás Información \n  \n  \n* Los contenidos de esta Web tienen una finalidad básicamente informativa y dirigida a un público en general. El acceso a esta información\, no garantiza que la misma\, así como sus textos\, gráficos o vínculos\, sean exactos o completos. SBORL\, no se hace responsable de los cualquier cambio que se produzca en dicho evento\, para mas información póngase en contacto con la empresa organizadora del evento.
URL:https://sborl.es/event/sorla-xi-jornadas-de-orl-avanzada-y-patologia-cervico-facial/
LOCATION:jaen\, jaen\, España
CATEGORIES:Cursos
ATTACH;FMTTYPE=image/gif:https://sborl.es/wp-content/uploads/2024/05/jaen-ciudad.gif
END:VEVENT
END:VCALENDAR