BEGIN:VCALENDAR
VERSION:2.0
PRODID:-//SBORL | Sociedad Balear de Otorrinolaringología - ECPv6.2.3//NONSGML v1.0//EN
CALSCALE:GREGORIAN
METHOD:PUBLISH
X-ORIGINAL-URL:https://sborl.es
X-WR-CALDESC:Eventos para SBORL | Sociedad Balear de Otorrinolaringología
REFRESH-INTERVAL;VALUE=DURATION:PT1H
X-Robots-Tag:noindex
X-PUBLISHED-TTL:PT1H
BEGIN:VTIMEZONE
TZID:Europe/Paris
BEGIN:DAYLIGHT
TZOFFSETFROM:+0100
TZOFFSETTO:+0200
TZNAME:CEST
DTSTART:20240331T010000
END:DAYLIGHT
BEGIN:STANDARD
TZOFFSETFROM:+0200
TZOFFSETTO:+0100
TZNAME:CET
DTSTART:20241027T010000
END:STANDARD
END:VTIMEZONE
BEGIN:VEVENT
DTSTART;TZID=Europe/Paris:20240601T080000
DTEND;TZID=Europe/Paris:20240601T170000
DTSTAMP:20260422T153535
CREATED:20240527T063330Z
LAST-MODIFIED:20240527T064025Z
UID:24432-1717228800-1717261200@sborl.es
SUMMARY:Curso online sobre actualización en ORL pediátrica
DESCRIPTION:* ESTE EVENTO NO ESTÁ ORGANIZADO POR SBORL \nCurso online sobre Actualización en Otorrinolaringología Pediátrica \n\nDirectores:\nDr. Guillermo Plaza\nDra. Margarita Bartolomé \nEste curso tiene como objetivo proporcionar una actualización en Otorrinolaringología Pediátrica para aquellos interesados en el diagnóstico y tratamiento en esta especialidad. A través de la participación de expertos en ORL infantil y pediatras especializados\, tendrán la oportunidad de revisar la evidencia científica más reciente. \n  \nPrograma\n  \n  \n* Los contenidos de esta Web tienen una finalidad básicamente informativa y dirigida a un público en general. El acceso a esta información\, no garantiza que la misma\, así como sus textos\, gráficos o vínculos\, sean exactos o completos. SBORL\, no se hace responsable de los cualquier cambio que se produzca en dicho evento\, para mas información póngase en contacto con la empresa organizadora del evento.
URL:https://sborl.es/event/curso-online-sobre-actualizacion-en-orl-pediatrica/
LOCATION:Asturias
CATEGORIES:Cursos
ATTACH;FMTTYPE=image/jpeg:https://sborl.es/wp-content/uploads/2017/04/pediatra.jpg
END:VEVENT
BEGIN:VEVENT
DTSTART;TZID=Europe/Paris:20240601T080000
DTEND;TZID=Europe/Paris:20240601T170000
DTSTAMP:20260422T153535
CREATED:20240527T063833Z
LAST-MODIFIED:20240527T063903Z
UID:24434-1717228800-1717261200@sborl.es
SUMMARY:III Curso de Rehabilitacion vestibular en el deporte
DESCRIPTION:* ESTE EVENTO NO ESTÁ ORGANIZADO POR SBORL \nLa mayoría de los deportes tienen un fuerte elemento de equilibrio\, coordinación y conciencia de la posición. El entrenamiento vestibular y de equilibrio especializado lleva las habilidades que ya has aprendido a un nivel completamente nuevo y también puede ayudarte a recuperarte de una lesión más rápidamente. Puede ayudarte\, entre otras cosas\, a recuperarte de los mareos y dolores de cabeza relacionados con la conmoción cerebral o reducir significativamente la tensión en el tobillo\, la rodilla y la cadera durante las actividades dinámicas\, lo que reduce el riesgo de lesiones. Puede ajustar fácilmente la coordinación de los ojos\, las manos y los pies para presentar un swing más regular y eficiente o permitir cambiar de dirección más rápido para poder superar a un oponente en aceleración y velocidad. \nEn este curso mostraremos y analizaremos las principales estrategias en rehabilitación vestibular con las nuevas tecnologías aplicadas\, como la inmersión virtual\, para conseguir estos objetivos.\n¡Diferénciate\, un paso por delante de la competencia deportiva! \n  \nPrograma\n  \n  \n* Los contenidos de esta Web tienen una finalidad básicamente informativa y dirigida a un público en general. El acceso a esta información\, no garantiza que la misma\, así como sus textos\, gráficos o vínculos\, sean exactos o completos. SBORL\, no se hace responsable de los cualquier cambio que se produzca en dicho evento\, para mas información póngase en contacto con la empresa organizadora del evento.
URL:https://sborl.es/event/iii-curso-de-rehabilitacion-vestibular-en-el-deporte/
LOCATION:C/ Calle Jorge Juan 94\, C/ Calle Jorge Juan 94\, Madrid\, Madrid\, 28009\, España
CATEGORIES:Cursos
ATTACH;FMTTYPE=image/jpeg:https://sborl.es/wp-content/uploads/2021/08/madrid.jpg
END:VEVENT
BEGIN:VEVENT
DTSTART;TZID=Europe/Paris:20240601T080000
DTEND;TZID=Europe/Paris:20240601T170000
DTSTAMP:20260422T153535
CREATED:20240527T065108Z
LAST-MODIFIED:20240527T065108Z
UID:24442-1717228800-1717261200@sborl.es
SUMMARY:4 th Multidisciplinary Anatomical Orbital & External Paranasal Sinus Dissection Course
DESCRIPTION:* ESTE EVENTO NO ESTÁ ORGANIZADO POR SBORL \nClínica Clarós Laboratory practice on hands-on dissection\, lecture and video based couse aimed at Senior trainees\, fellows and junior consultants in Ophthalmology\, Neurosurgery\, Maxillofacial\, Otorhinolaryngology and Facial Plastic surgery. Under the guidance of a very experienced surgical faculty\, course participants will perform dissections on fresh cadaver specimens and will have the opportunity to enhance their knowledge regarding surgery of the orbit and paranasal sinus using demostrative techniques and applications on clinical cases. The Lab has 16 fully equipped work stations\, microscopes\, set of instruments and state of the art micro drilling systems. Since 1983 we have had the oportunity of training more than 3000 Residents & Specialists from Spain and different countries around the world in our Permanent Temporal Dissection Laboratory and we now are innovating this new Multidisciplinary Orbital Approach on human specimen. We know what each participant needs.\n IMPORTANT KEY: All the specimens are preserved and prepared with silicone to have the sensation of a live surgery seeing all the structures and blood vessels. \n  \nMás Información \n  \n  \n* Los contenidos de esta Web tienen una finalidad básicamente informativa y dirigida a un público en general. El acceso a esta información\, no garantiza que la misma\, así como sus textos\, gráficos o vínculos\, sean exactos o completos. SBORL\, no se hace responsable de los cualquier cambio que se produzca en dicho evento\, para mas información póngase en contacto con la empresa organizadora del evento.
URL:https://sborl.es/event/4-th-multidisciplinary-anatomical-orbital-external-paranasal-sinus-dissection-course/
LOCATION:Asturias
CATEGORIES:Cursos
ATTACH;FMTTYPE=image/jpeg:https://sborl.es/wp-content/uploads/2019/09/Barcelona_curso.jpg
END:VEVENT
END:VCALENDAR