BEGIN:VCALENDAR
VERSION:2.0
PRODID:-//SBORL | Sociedad Balear de Otorrinolaringología - ECPv6.2.3//NONSGML v1.0//EN
CALSCALE:GREGORIAN
METHOD:PUBLISH
X-WR-CALNAME:SBORL | Sociedad Balear de Otorrinolaringología
X-ORIGINAL-URL:https://sborl.es
X-WR-CALDESC:Eventos para SBORL | Sociedad Balear de Otorrinolaringología
REFRESH-INTERVAL;VALUE=DURATION:PT1H
X-Robots-Tag:noindex
X-PUBLISHED-TTL:PT1H
BEGIN:VTIMEZONE
TZID:Europe/Paris
BEGIN:DAYLIGHT
TZOFFSETFROM:+0100
TZOFFSETTO:+0200
TZNAME:CEST
DTSTART:20240331T010000
END:DAYLIGHT
BEGIN:STANDARD
TZOFFSETFROM:+0200
TZOFFSETTO:+0100
TZNAME:CET
DTSTART:20241027T010000
END:STANDARD
END:VTIMEZONE
BEGIN:VEVENT
DTSTART;TZID=Europe/Paris:20240405T080000
DTEND;TZID=Europe/Paris:20240406T170000
DTSTAMP:20260422T110740
CREATED:20240320T083033Z
LAST-MODIFIED:20240320T083346Z
UID:24386-1712304000-1712422800@sborl.es
SUMMARY:IV Jornada de dispositivos implantables
DESCRIPTION:* ESTE EVENTO NO ESTÁ ORGANIZADO POR SBORL \nLaboratorio de Disección de Hueso Temporal.\nInstituto Oto Vértigo. \nCalle de Jorge Juan\, 94. 28009. Madrid. METRO GOYA\, O`DONNELL. \nMáximo 8 asistentes\, repartidos en dos grupos de 4 personas. \nDIRECTOR DEL CURSO: Dr. Rubén Polo \nCOLABORADORES: Dr. Pedro Amaro \n 
URL:https://sborl.es/event/iv-jornada-de-dispositivos-implantables/
LOCATION:Laboratorio de Disección de Hueso Temporal. Instituto Oto Vértigo.\, Calle de Jorge Juan\, 94\, Madrid\, 28009\, España
CATEGORIES:Cursos
ATTACH;FMTTYPE=image/png:https://sborl.es/wp-content/uploads/2017/10/hueso_temporal.png
END:VEVENT
END:VCALENDAR