BEGIN:VCALENDAR
VERSION:2.0
PRODID:-//SBORL | Sociedad Balear de Otorrinolaringología - ECPv6.2.3//NONSGML v1.0//EN
CALSCALE:GREGORIAN
METHOD:PUBLISH
X-WR-CALNAME:SBORL | Sociedad Balear de Otorrinolaringología
X-ORIGINAL-URL:https://sborl.es
X-WR-CALDESC:Eventos para SBORL | Sociedad Balear de Otorrinolaringología
REFRESH-INTERVAL;VALUE=DURATION:PT1H
X-Robots-Tag:noindex
X-PUBLISHED-TTL:PT1H
BEGIN:VTIMEZONE
TZID:Europe/Paris
BEGIN:DAYLIGHT
TZOFFSETFROM:+0100
TZOFFSETTO:+0200
TZNAME:CEST
DTSTART:20240331T010000
END:DAYLIGHT
BEGIN:STANDARD
TZOFFSETFROM:+0200
TZOFFSETTO:+0100
TZNAME:CET
DTSTART:20241027T010000
END:STANDARD
END:VTIMEZONE
BEGIN:VEVENT
DTSTART;TZID=Europe/Paris:20240222T080000
DTEND;TZID=Europe/Paris:20240223T170000
DTSTAMP:20260420T181215
CREATED:20231222T202243Z
LAST-MODIFIED:20231222T202243Z
UID:24333-1708588800-1708707600@sborl.es
SUMMARY:Curso de Rinoplastia y Cirugia Plastica Facial
DESCRIPTION:* ESTE EVENTO NO ESTÁ ORGANIZADO POR SBORL \nDirección\n* Dr. Alejandro Martínez Morán\n* Dr. Pablo Parente Arias \nObjetivos\nEl presente curso está diseñado para que el alumno adquiera los conocimientos y habilidades básicas que se precisa para realizar intervenciones quirúrgicas de cirugía plástica facial básica. Es un curso eminentemente práctico\, basado en un módulo de cirugía en cadáver (congelado) donde tendrá la oportunidad de practicar las técnicas quirúrgicas aprendidas\, tutorizado en todo momento por cirujanos expertos.\nEl curso se celebrará en la Unidad de Cirugía Experimental del Complexo Hospitalario Universitario de A Coruña\, teniendo a disposición de cada cursillista el material necesario para la realización de la práctica. \nProfesores\n* Dr. Alejandro Martínez Morán. C.H.U. de A Coruña\n* Dr. Álvaro García-Rozado González. C.H.U. de A Coruña\n* Dr. Manuel Tomás Barberán. Hospital Son Espases. Palma de Mallorca\n* Dr. Nicolás González Poggioli. C.H.U. de A Coruña\n* Dr. Pablo Parente Arias. C.H.U. de A Coruña\n* Dr. Javier Coloma Bockos. Hospital La Rosaleda. Santiago de Compostela \n  \nProgram\n  \n* Los contenidos de esta Web tienen una finalidad básicamente informativa y dirigida a un público en general. El acceso a esta información\, no garantiza que la misma\, así como sus textos\, gráficos o vínculos\, sean exactos o completos. SBORL\, no se hace responsable de cualquier cambio que se produzca en dicho evento\, para mas información póngase en contacto con la empresa organizadora del evento.
URL:https://sborl.es/event/curso-de-rinoplastia-y-cirugia-plastica-facial-4/
LOCATION:Servicio de ORL. Complexo Hospitalario Universitario de A Coruña\, A coruña\, España
CATEGORIES:Cursos
ATTACH;FMTTYPE=image/jpeg:https://sborl.es/wp-content/uploads/2021/03/Acoruna.jpg
END:VEVENT
END:VCALENDAR