BEGIN:VCALENDAR
VERSION:2.0
PRODID:-//SBORL | Sociedad Balear de Otorrinolaringología - ECPv6.2.3//NONSGML v1.0//EN
CALSCALE:GREGORIAN
METHOD:PUBLISH
X-WR-CALNAME:SBORL | Sociedad Balear de Otorrinolaringología
X-ORIGINAL-URL:https://sborl.es
X-WR-CALDESC:Eventos para SBORL | Sociedad Balear de Otorrinolaringología
REFRESH-INTERVAL;VALUE=DURATION:PT1H
X-Robots-Tag:noindex
X-PUBLISHED-TTL:PT1H
BEGIN:VTIMEZONE
TZID:Europe/Paris
BEGIN:DAYLIGHT
TZOFFSETFROM:+0100
TZOFFSETTO:+0200
TZNAME:CEST
DTSTART:20240331T010000
END:DAYLIGHT
BEGIN:STANDARD
TZOFFSETFROM:+0200
TZOFFSETTO:+0100
TZNAME:CET
DTSTART:20241027T010000
END:STANDARD
END:VTIMEZONE
BEGIN:VEVENT
DTSTART;TZID=Europe/Paris:20240125T080000
DTEND;TZID=Europe/Paris:20240126T170000
DTSTAMP:20260420T110420
CREATED:20231222T193003Z
LAST-MODIFIED:20231222T193133Z
UID:24311-1706169600-1706288400@sborl.es
SUMMARY:Winter Laryngology Course on Laryngeal Dystonia
DESCRIPTION:* THIS EVENT IS NOT ORGANIZED BY SBORL. \nWinter Laryngology Course on Laryngeal Dystonia\nOur Winter Course has a comprehensive and intensive program designed to address the diagnostics and management of Laryngeal Dystonia.\nThe course will include latest on\n* Diagnostics of Laryngeal Dystonia\, how it present and diagnosed among patients.\n* In-depth presentations and discussions of different procedures available for management of spasmodic dysphonia.\n* The interventions covered in the course include botulinum injections under EMG control or under vision. Myoneurectomy and Thyropasty 2.\n* Reasons for  preference of injections of vocal folds vs. false vocal folds.\n* Thyroplasty 2 using titanium bridges will be covered in addition to myoneurectomy.\n* Results of the previous procedures will be addressed being considered as permanent solutions.\n* In the end of course\, a hands-on demonstration will be carried out using available equipment and instruments used in injections\, myoneurectomy and thyroplasty 2. \nLanguage\nAll Helsinki Laryngology Courses are held in English\, no translation will be offered. \nAccomodation\nAccomodation options are available all around Helsinki.\nThose wishing to stay in the same venue (Kämp Hotel) can benefit from reduced prices from this link. Also\, you can enjoy stay with reduced prices using code PROHELLAR2024 in hotels Haven or St. George. \n  \nPrograma\n  \n  \n*The contents of this website are essentially for informational purposes and intended for a general audience. Access to this information does not guarantee that it\, along with its texts\, graphics\, or links\, is accurate or complete. SBORL is not responsible for any changes that may occur in the event mentioned. For more information\, please contact the organizing company of the event.
URL:https://sborl.es/event/winter-laryngology-course-on-laryngeal-dystonia/
LOCATION:helsinki\, kelsinki\, kelsinki\, Finlandia
CATEGORIES:Cursos
ATTACH;FMTTYPE=image/jpeg:https://sborl.es/wp-content/uploads/2023/12/helsinki.jpg
END:VEVENT
END:VCALENDAR