BEGIN:VCALENDAR
VERSION:2.0
PRODID:-//SBORL | Sociedad Balear de Otorrinolaringología - ECPv6.2.3//NONSGML v1.0//EN
CALSCALE:GREGORIAN
METHOD:PUBLISH
X-ORIGINAL-URL:https://sborl.es
X-WR-CALDESC:Eventos para SBORL | Sociedad Balear de Otorrinolaringología
REFRESH-INTERVAL;VALUE=DURATION:PT1H
X-Robots-Tag:noindex
X-PUBLISHED-TTL:PT1H
BEGIN:VTIMEZONE
TZID:Europe/Paris
BEGIN:DAYLIGHT
TZOFFSETFROM:+0100
TZOFFSETTO:+0200
TZNAME:CEST
DTSTART:20230326T010000
END:DAYLIGHT
BEGIN:STANDARD
TZOFFSETFROM:+0200
TZOFFSETTO:+0100
TZNAME:CET
DTSTART:20231029T010000
END:STANDARD
END:VTIMEZONE
BEGIN:VEVENT
DTSTART;TZID=Europe/Paris:20231102T080000
DTEND;TZID=Europe/Paris:20231104T170000
DTSTAMP:20260420T122230
CREATED:20231006T171603Z
LAST-MODIFIED:20231006T171732Z
UID:24206-1698912000-1699117200@sborl.es
SUMMARY:Curso avanzado de Diseccion de Hueso Temporal Mastering the Mastoid (Dr. Aristegui)
DESCRIPTION:* ESTE EVENTO NO ESTÁ ORGANIZADO POR SBORL \nEste Curso Avanzado de tres días de Cirugía de Mastoides y de Base de Cráneo Lateral ofrece a los participantes la gran oportunidad de aprender y practicar las más avanzadas técnicas de Cirugía de Mastoides. Cada alumno dispondrá de una cabeza entera para poder trabajar en ambos lados\, para la práctica quirúrgica donde realizará todas las técnicas para dominar la Mastoides.\nAdemás tendrá la oportunidad de ver en videos quirúrgicos cada una de las técnicas y abordajes.\nCada alumno tendrá un seguimiento estrecho por parte de los monitores de disección\, con amplia experiencia en el campo de la Otología.\nLos cursos de Cirugía de IFMEC están diseñados para que el alumno adquiera habilidades que pueda profesionalizar inmediatamente.\nNuestro objetivo es que la experiencia de los cursos no sólo tenga impacto en el curriculum sino en la práctica clínica diaria. \nPlazas limitadas. \n  \nPrograma
URL:https://sborl.es/event/curso-avanzado-de-diseccion-de-hueso-temporal-mastering-the-mastoid-dr-aristegui/
LOCATION:Asturias
CATEGORIES:Cursos
ATTACH;FMTTYPE=image/jpeg:https://sborl.es/wp-content/uploads/2023/10/aristegui.jpg
END:VEVENT
END:VCALENDAR