BEGIN:VCALENDAR
VERSION:2.0
PRODID:-//SBORL | Sociedad Balear de Otorrinolaringología - ECPv6.2.3//NONSGML v1.0//EN
CALSCALE:GREGORIAN
METHOD:PUBLISH
X-ORIGINAL-URL:https://sborl.es
X-WR-CALDESC:Eventos para SBORL | Sociedad Balear de Otorrinolaringología
REFRESH-INTERVAL;VALUE=DURATION:PT1H
X-Robots-Tag:noindex
X-PUBLISHED-TTL:PT1H
BEGIN:VTIMEZONE
TZID:Europe/Paris
BEGIN:DAYLIGHT
TZOFFSETFROM:+0100
TZOFFSETTO:+0200
TZNAME:CEST
DTSTART:20240331T010000
END:DAYLIGHT
BEGIN:STANDARD
TZOFFSETFROM:+0200
TZOFFSETTO:+0100
TZNAME:CET
DTSTART:20241027T010000
END:STANDARD
END:VTIMEZONE
BEGIN:VEVENT
DTSTART;TZID=Europe/Paris:20240319T080000
DTEND;TZID=Europe/Paris:20240322T170000
DTSTAMP:20260420T180651
CREATED:20240312T191658Z
LAST-MODIFIED:20240312T191840Z
UID:24370-1710835200-1711126800@sborl.es
SUMMARY:Curso de Cirugia Otologica y Diseccion del Hueso Temporal
DESCRIPTION:* ESTE EVENTO NO ESTÁ ORGANIZADO POR SBORL \nEl fresado del hueso temporal es imprescindible para efectuar óptimas cirugías otológicas\nEste curso está orientado hacia la adquisición de percepciones tridimensionales mentales en el alumno sobre la realidad anatómica y patológica de cada paciente antes de realizar los procedimientos quirúrgicos. Se trata de aprender y entrenarse en la planificación quirúrgica a partir de imágenes 3D anatómicas y de imágenes DICOM radiológicas. Las exposiciones teóricas se complementan con abundantes ejemplos prácticos y de vídeos de cirugías reales que los asistentes pueden consultar durante el entrenamiento.\nDurante el curso los asistentes aprenderán a realizar toda la secuencia de pasos que van desde la identificación de las estructuras anatómicas en imágenes en los 3 planos del espacio mediante programas informáticos de manejo de imágenes radiológicas (Osirix\, Horos\, 3D Slicer) hasta la realización de las técnicas quirúrgicas en la cabeza del cadáver en función de los hallazgos específicos encontrados en la radiología\, ya que a todas las cabezas se les ha practicado previamente un TAC. Cada asistente dispone así de imágenes específicas de la cabeza que va a disecar\, donde puede aplicar los conocimientos adquiridos en el manejo de imágenes 3D.\nCada puesto de trabajo dispone de aparataje e instrumental completo de disección del hueso temporal con microscopios adaptados a una cámara conectada a un ordenador personal de pantalla táctil\, pudiendo acceder a cirugía en directo\, vídeos quirúrgicos\, guías de disección\, casos clínicos documentados\, imágenes quirúrgicas\, imágenes de TAC y RNM\, documentos de referencia\, internet.\nUno de los aspectos más interesantes del Curso es que los asistentes podrán aprender a realizar cirugías virtuales sobre pacientes reales\, de manera que puedan acudir a quirófano habiendo «operado» previamente al paciente de una manera virtual en el ordenador.\nSe practicará la obtención de imágenes anatómicas en 3D y su traslación a presentaciones y recreaciones de Realidad Aumentada. \n  \nPrograma\n \n  \n* Los contenidos de esta Web tienen una finalidad básicamente informativa y dirigida a un público en general. El acceso a esta información\, no garantiza que la misma\, así como sus textos\, gráficos o vínculos\, sean exactos o completos. SBORL\, no se hace responsable de los cualquier cambio que se produzca en dicho evento\, para mas información póngase en contacto con la empresa organizadora del evento.
URL:https://sborl.es/event/curso-de-cirugia-otologica-y-diseccion-del-hueso-temporal-4/
LOCATION:Laboratorio de Entrenamiento y Simulación Quirúrgica del Servicio de Otorrinolaringología. Departamento de Anatomía y Embriología Humanas de la Universidad de Sevilla\, Avenida Sánchez Pizjuán\, Sevilla\, 41009\, España
CATEGORIES:Cursos
ATTACH;FMTTYPE=image/jpeg:https://sborl.es/wp-content/uploads/2018/07/sevilla_shutterstock_181988642.jpg
END:VEVENT
BEGIN:VEVENT
DTSTART;TZID=Europe/Paris:20240321T080000
DTEND;TZID=Europe/Paris:20240323T170000
DTSTAMP:20260420T180651
CREATED:20240312T193322Z
LAST-MODIFIED:20240312T193322Z
UID:24376-1711008000-1711213200@sborl.es
SUMMARY:ECHNO-ICHNO 2021 Congress
DESCRIPTION:<p style=»text-align: left; color: #92b2c2; margin-bottom: 25px;»><strong>* This event is not organized by SBORL.</strong></p> \nIt gives us great pleasure to invite you to the 9th International Congress on Innovative Approaches in Head and Neck Oncology\, ICHNO 2024: Promoting scientific excellence and multidisciplinary care\, taking place in Barcelona\, Spain 21-23 March 2024. \nThe congress is jointly organised by the European SocieTy for Radiotherapy and Oncology (ESTRO)\, the European Head and Neck Society (EHNS) and the European Society of Medical Oncology (ESMO)\, and will bring together multi-disciplinary researchers focussed on the latest research\, developments and innovations in head and neck oncology\, both in the clinic and laboratory. The congress will be of interest to scientists and clinical researchers\, including radiation and medical oncologists\, transoral surgeons\, radiologists\, dieticians\, speech and language therapists. \nThis biennial congress promises to provide an important platform for the dissemination of the latest\, cutting-edge science and innovation in the field of head and neck oncology. The programme includes invited lectures by global research leaders\, presentations on the latest breaking research findings from randomised trials and other studies\, and symposia offering insights and updates on the latest advances in head and neck cancer research and care. Time will be allocated for discussion\, entertaining debate\, and interaction between presenters and participants\, and the multidisciplinary sessions will enable interaction and collaboration between the different disciplines involved in head and neck oncology. \nWe hope to see you all in Barcelona for this unmissable and unforgettable congress! \n&nbsp; \n<div class=»wpb_wrapper»><a class=»qbutton small» style=»background-color: #bb0706;» href=»https://www.estro.org/Congresses/ICHNO-2024″ target=»_blank» rel=»noopener noreferrer» data-hover-background-color=»#494949″>Program</a></div> \n&nbsp; \n&nbsp; \n<strong style=»text-align: left; color: #92b2c2;»>* The contents of this website are primarily for informational purposes and intended for a general audience. Accessing this information does not guarantee that it\, along with its texts\, graphics\, or links\, is accurate or complete. SBORL is not responsible for any changes that may occur in this event. For more information\, please contact the event organizing company.</strong>
URL:https://sborl.es/event/echno-ichno-2021-congress-2/
LOCATION:Barcelona\, España
CATEGORIES:Congresos,Cursos
ATTACH;FMTTYPE=image/jpeg:https://sborl.es/wp-content/uploads/2018/09/barcelona.jpg
END:VEVENT
END:VCALENDAR