BEGIN:VCALENDAR
VERSION:2.0
PRODID:-//SBORL | Sociedad Balear de Otorrinolaringología - ECPv6.2.3//NONSGML v1.0//EN
CALSCALE:GREGORIAN
METHOD:PUBLISH
X-WR-CALNAME:SBORL | Sociedad Balear de Otorrinolaringología
X-ORIGINAL-URL:https://sborl.es
X-WR-CALDESC:Eventos para SBORL | Sociedad Balear de Otorrinolaringología
REFRESH-INTERVAL;VALUE=DURATION:PT1H
X-Robots-Tag:noindex
X-PUBLISHED-TTL:PT1H
BEGIN:VTIMEZONE
TZID:Europe/Paris
BEGIN:DAYLIGHT
TZOFFSETFROM:+0100
TZOFFSETTO:+0200
TZNAME:CEST
DTSTART:20240331T010000
END:DAYLIGHT
BEGIN:STANDARD
TZOFFSETFROM:+0200
TZOFFSETTO:+0100
TZNAME:CET
DTSTART:20241027T010000
END:STANDARD
END:VTIMEZONE
BEGIN:VEVENT
DTSTART;TZID=Europe/Paris:20240202T193000
DTEND;TZID=Europe/Paris:20240202T210000
DTSTAMP:20260420T123202
CREATED:20231222T121144Z
LAST-MODIFIED:20231222T121945Z
UID:24289-1706902200-1706907600@sborl.es
SUMMARY:REUNION SAN BLAS 2024 | FEMINIZACION Y MASCULINIZACION DE LA VOZ
DESCRIPTION:¿SE PUEDE HACER UN CAMBIO DE TONO VOCAL?: \nFEMINIZACIÓN Y MASCULINIZACIÓN DE LA VOZ\nEstimados socios y compañeros\, \nse acerca la festividad de nuestro patrón y\, como cada año\, el momento de reencontrarnos. Es u momento para acercarnos y disfrutar de una agradable velada.\nEste año tendremos el placer de contar don el Dr. Juan Carlos Casado quien nos hablará de un tema pionero y del que muy pocos otorrinos tienen la suerte de realizar\, la cirugía laríngea para cambio del tono vocal. El Dr. Casado es\, entre otros\, presidente de la Comisión de Laringología\, Voz y Disfagia de la Sociedad Española de ORL. Será sin lugar a dudas un tema interesantísimo y os animo a asistir a la sesión de la cual seguro que todos saldremos con nuevas ideas y conceptos. \nTras la ponencia\, habrá una cena durante la cual podremos intercambiar experiencias y reencontrarnos con los compañeros más lejanos.\nSerá un placer contar con todos los otorrinos de las islas\, Mallorca\, Menorca Ibiza y Formentera y con los que se animen del resto de España a visitar esta maravillosa isla en la que tenemos el placer de vivir. \nOs esperamos a todos el próximo día 2 de febrero. \nPrograma\n  \nCharla: ¿SE PUEDE HACER UN CAMBIO DE TONO VOCAL?: FEMINIZACIÓN Y MASCULINIZACIÓN DE LA VOZ\nPonente: Dr. Juan Carlos Casado\nDirector General de Clínica Dr. Casado\, Marbella\, España Co-director Servicio de Otorrinolaringología Hospital Quirón Salud Marbella &\nQuirón Salud Campo de Gibraltar Presidente de la Comisión de Laringología\, Voz y Disfagia (Sociedad Española Otorrinolaringología y Cirugía de Cabeza y Cuello) \nCurriculum vitae\n  \n  \nLugar: Hotel Costa Azul\nAvda. Gabriel Roca\, 7. 07014 Palma de Mallorca \n  \nHora: 19.30h\nSe celebrará la charla a las 19.30h y posteriormente una cena-coctel a cargo del patrocinador Aural. \n  \nRecibir un cordial saludo \n  \nJunta de la SBORL \nCarlos Magri \nPresidente
URL:https://sborl.es/event/reunion-san-blas-2024-feminizacion-y-masculinizacion-de-la-voz/
LOCATION:Hotel Costa Azul\, Avinguda de Gabriel Roca\, 7\, Palma\, 07014\, España
CATEGORIES:Cursos,Evento SBORL,Reunión
ATTACH;FMTTYPE=image/jpeg:https://sborl.es/wp-content/uploads/2019/12/San_Blas_2024-1200-512.jpg
END:VEVENT
BEGIN:VEVENT
DTSTART;TZID=Europe/Paris:20240207T080000
DTEND;TZID=Europe/Paris:20240209T170000
DTSTAMP:20260420T123202
CREATED:20231222T200547Z
LAST-MODIFIED:20231222T200745Z
UID:24327-1707292800-1707498000@sborl.es
SUMMARY:Hands-On Training Course on Surgical Anatomy of the Neck\, Larynx and Parotid Gland
DESCRIPTION:* ESTE EVENTO NO ESTÁ ORGANIZADO POR SBORL \nBenvinguts a la nostra pàgina web \nEl Servei d’ORL-PCF del Hospital de la Santa Creu i Sant Pau proporciona atenció mèdica i quirúrgica als pacients de totes les edats amb problemes de l’àrea de les orelles\, nas\, faringe\, laringe i regió cèrvico-facial. \nEl Servei ha reforçat l’estructura en tres àrees de coneixement (seccions d’otologia\, de rinologia i de laringologia-cèrvico-facial) augmentant el rigor\, i la capacitat de solució davant les patologies del nostre àmbit. \nDins les xifres d’activitat del Servei destaquen les aproximadament 15.000 visites/any\, les aproximadament 1.000 intervencions/any i més de 1.000 altes/any. \nEl Servei d’ORL-PCF te tres àmbits de treball: assistència\, docència i recerca. \nA nivell assistencial\, a més de fer tota la ORL-PCF\, ha definit grans àrees d’excel·lència:\n1. Els tumors i càncers de cap i coll\n2. L’otoneurocirurgia i la implantació coclear\n3. La cirurgia endoscòpica avançada \nA nivell docent el Servei s’ocupa de l’ensenyament de pre-grau a la UAB;  de la formació de especialistes (MIR) i  de la Formació continuada dels ORL amb l’organització de múltiples activitats i cursos. \nFinalment a nivell de recerca el Servei treballa com a línia preferent en recerca translacional (en col·laboració amb laboratoris de recerca bàsica) en càncer de cap i coll. \nEls especialistes del nostre Servei treballen conjuntament amb altres especialistes del nostre Hospital per oferir el millor tractament pels nostres pacients. Cal destacar la col·laboració amb Oncologia Mèdica\, Oncologia radioteràpica\, Diagnòstic per la imatge (radiodiagnòstic)\, Medica Nuclear\, Anatomia Patològica\, Neurocirurgia\, Cirurgia Plàstica\, Oftalmologia i Medicina Física-Rehabilitació. \n  \nPrograma\n  \n* Los contenidos de esta Web tienen una finalidad básicamente informativa y dirigida a un público en general. El acceso a esta información\, no garantiza que la misma\, así como sus textos\, gráficos o vínculos\, sean exactos o completos. SBORL\, no se hace responsable de cualquier cambio que se produzca en dicho evento\, para mas información póngase en contacto con la empresa organizadora del evento.
URL:https://sborl.es/event/hands-on-training-course-on-surgical-anatomy-of-the-neck-larynx-and-parotid-gland-3/
LOCATION:Bellaterra\, Barcelona\, Barcelona\, Cataluña\, 08193\, España
CATEGORIES:Cursos
ATTACH;FMTTYPE=image/jpeg:https://sborl.es/wp-content/uploads/2019/09/Barcelona_curso.jpg
END:VEVENT
BEGIN:VEVENT
DTSTART;TZID=Europe/Paris:20240222T080000
DTEND;TZID=Europe/Paris:20240223T170000
DTSTAMP:20260420T123202
CREATED:20231222T202243Z
LAST-MODIFIED:20231222T202243Z
UID:24333-1708588800-1708707600@sborl.es
SUMMARY:Curso de Rinoplastia y Cirugia Plastica Facial
DESCRIPTION:* ESTE EVENTO NO ESTÁ ORGANIZADO POR SBORL \nDirección\n* Dr. Alejandro Martínez Morán\n* Dr. Pablo Parente Arias \nObjetivos\nEl presente curso está diseñado para que el alumno adquiera los conocimientos y habilidades básicas que se precisa para realizar intervenciones quirúrgicas de cirugía plástica facial básica. Es un curso eminentemente práctico\, basado en un módulo de cirugía en cadáver (congelado) donde tendrá la oportunidad de practicar las técnicas quirúrgicas aprendidas\, tutorizado en todo momento por cirujanos expertos.\nEl curso se celebrará en la Unidad de Cirugía Experimental del Complexo Hospitalario Universitario de A Coruña\, teniendo a disposición de cada cursillista el material necesario para la realización de la práctica. \nProfesores\n* Dr. Alejandro Martínez Morán. C.H.U. de A Coruña\n* Dr. Álvaro García-Rozado González. C.H.U. de A Coruña\n* Dr. Manuel Tomás Barberán. Hospital Son Espases. Palma de Mallorca\n* Dr. Nicolás González Poggioli. C.H.U. de A Coruña\n* Dr. Pablo Parente Arias. C.H.U. de A Coruña\n* Dr. Javier Coloma Bockos. Hospital La Rosaleda. Santiago de Compostela \n  \nProgram\n  \n* Los contenidos de esta Web tienen una finalidad básicamente informativa y dirigida a un público en general. El acceso a esta información\, no garantiza que la misma\, así como sus textos\, gráficos o vínculos\, sean exactos o completos. SBORL\, no se hace responsable de cualquier cambio que se produzca en dicho evento\, para mas información póngase en contacto con la empresa organizadora del evento.
URL:https://sborl.es/event/curso-de-rinoplastia-y-cirugia-plastica-facial-4/
LOCATION:Servicio de ORL. Complexo Hospitalario Universitario de A Coruña\, A coruña\, España
CATEGORIES:Cursos
ATTACH;FMTTYPE=image/jpeg:https://sborl.es/wp-content/uploads/2021/03/Acoruna.jpg
END:VEVENT
END:VCALENDAR