BEGIN:VCALENDAR
VERSION:2.0
PRODID:-//SBORL | Sociedad Balear de Otorrinolaringología - ECPv6.2.3//NONSGML v1.0//EN
CALSCALE:GREGORIAN
METHOD:PUBLISH
X-ORIGINAL-URL:https://sborl.es
X-WR-CALDESC:Eventos para SBORL | Sociedad Balear de Otorrinolaringología
REFRESH-INTERVAL;VALUE=DURATION:PT1H
X-Robots-Tag:noindex
X-PUBLISHED-TTL:PT1H
BEGIN:VTIMEZONE
TZID:Europe/Paris
BEGIN:DAYLIGHT
TZOFFSETFROM:+0100
TZOFFSETTO:+0200
TZNAME:CEST
DTSTART:20240331T010000
END:DAYLIGHT
BEGIN:STANDARD
TZOFFSETFROM:+0200
TZOFFSETTO:+0100
TZNAME:CET
DTSTART:20241027T010000
END:STANDARD
END:VTIMEZONE
BEGIN:VEVENT
DTSTART;TZID=Europe/Paris:20240710T080000
DTEND;TZID=Europe/Paris:20240713T170000
DTSTAMP:20260420T181727
CREATED:20240609T184528Z
LAST-MODIFIED:20240609T184904Z
UID:24457-1720598400-1720890000@sborl.es
SUMMARY:CI2024: 17th INTERNATIONAL CONFERENCE ON COCHLEAR IMPLANTS AND OTHER IMPLANTABLE TECHNOLOGIES
DESCRIPTION:* ESTE EVENTO NO ESTÁ ORGANIZADO POR SBORL \nWe are excited to be leading the charge for the 2024 American Cochlear Implant Alliance CI meeting\, set amidst the vibrant international backdrop of Vancouver\, British Columbia\, in July 2024. As the planning of this extraordinary gathering unfolds\, it’s evident that collaboration knows no borders. Not only within the realm of cochlear implantation care\, but also in planning this event with a number of Canadian leaders that promises to be enlightening\, empowering\, and transcendent for all who attend.\nBeyond the exchange of knowledge and expertise\, we recognize the insights and riveting discussions. The CI Conference Program Committee has meticulously curated seven key themes that lie at the current core of cochlear implantation for both adults and children. These themes reflect the dynamic and evolving landscape of auditory science:\nSuccessful Pathways to Cochlear Implantation: A Global Perspective Explore how patients are entering into the cochlear implantation pathway\, and what can be done to facilitate a positive change. \nCI2024 Vancouver: 17th International Conference on Cochlear Implants and other Implantable Technologies\nThe power of this gathering unites individuals along the entire spectrum of cochlear implantation care\, spanning the globe. Next year’s meeting is poised to be the epicenter of groundbreaking advancements once again. \nJacob B. Hunter MD | Co-Chair CI2024 Vancouver Program Committee\, Thomas Jefferson University \nViral Tejani AuD\, PhD | Co-Chair CI2024 Vancouver Program Committee\, University Hospitals Cleveland Medical Center / Case Western Reserve University \n\n    Program\n\n  \n* Los contenidos de esta Web tienen una finalidad básicamente informativa y dirigida a un público en general. El acceso a esta información\, no garantiza que la misma\, así como sus textos\, gráficos o vínculos\, sean exactos o completos. SBORL\, no se hace responsable de los cualquier cambio que se produzca en dicho evento\, para mas información póngase en contacto con la empresa organizadora del evento.
URL:https://sborl.es/event/ci2024-17th-international-conference-on-cochlear-implants-and-other-implantable-technologies/
LOCATION:Vancouver Convention Center\, 1055 Canada Place Vancouver\, BC V6C 0C3\, Vancouver\, vancouver\, 1055\, Canadá
CATEGORIES:Conferencia
ATTACH;FMTTYPE=image/jpeg:https://sborl.es/wp-content/uploads/2021/08/vancouver.jpg
END:VEVENT
END:VCALENDAR