BEGIN:VCALENDAR
VERSION:2.0
PRODID:-//SBORL | Sociedad Balear de Otorrinolaringología - ECPv6.2.3//NONSGML v1.0//EN
CALSCALE:GREGORIAN
METHOD:PUBLISH
X-ORIGINAL-URL:https://sborl.es
X-WR-CALDESC:Eventos para SBORL | Sociedad Balear de Otorrinolaringología
REFRESH-INTERVAL;VALUE=DURATION:PT1H
X-Robots-Tag:noindex
X-PUBLISHED-TTL:PT1H
BEGIN:VTIMEZONE
TZID:Europe/Paris
BEGIN:DAYLIGHT
TZOFFSETFROM:+0100
TZOFFSETTO:+0200
TZNAME:CEST
DTSTART:20240331T010000
END:DAYLIGHT
BEGIN:STANDARD
TZOFFSETFROM:+0200
TZOFFSETTO:+0100
TZNAME:CET
DTSTART:20241027T010000
END:STANDARD
END:VTIMEZONE
BEGIN:VEVENT
DTSTART;TZID=Europe/Paris:20240418T080000
DTEND;TZID=Europe/Paris:20240419T170000
DTSTAMP:20260420T121055
CREATED:20240320T092741Z
LAST-MODIFIED:20240320T092741Z
UID:24395-1713427200-1713546000@sborl.es
SUMMARY:XVII Jornadas de Actualizacion en Cirugia Endoscopica Nasosinusal
DESCRIPTION:* ESTE EVENTO NO ESTÁ ORGANIZADO POR SBORL \nDestinatarios\nOtorrinolaringólogos.\nResidentes de Otorrinolaringología. \nOrganiza\n– Servicio de Otorrinolaringología y Cirugía de cabeza y cuello del Hospital Clínico Universitario de Valladolid.\n– Instituto de Ciencias de la Salud de Castilla y León (ICSCYL). \nDirectores\nDr. Jaime Santos Pérez\nDr. Luis Miguel Torres Morientes\nProf. J. F. Pastor Vázquez Fechas\,  \nDuración y Formato\n18 y 19 de abril de 2024\n22 horas\nCharlas teóricas y cirugía en directo.\nAsistencia a quirófano.\nDossier con videos disección\, casos quirúrgicos.\nDisección de una cabeza criopreservada cada 2 participantes. \nLugar\n– Aula del Servicio de ORL. Hospital Clínico Universitario de Valladolid.\nC/ Ramón y Cajal 3. Valladolid.\n– Dpto. Anatomía y Radiología. Facultad de Medicina.\nC/ Ramón y Cajal 7. Valladolid \n  \nPrograma\n  \n  \n* Los contenidos de esta Web tienen una finalidad básicamente informativa y dirigida a un público en general. El acceso a esta información\, no garantiza que la misma\, así como sus textos\, gráficos o vínculos\, sean exactos o completos. SBORL\, no se hace responsable de los cualquier cambio que se produzca en dicho evento\, para mas información póngase en contacto con la empresa organizadora del evento.
URL:https://sborl.es/event/xvii-jornadas-de-actualizacion-en-cirugia-endoscopica-nasosinusal/
LOCATION:Aula del Servicio de ORL. Hospital Clínico Universitario de Valladolid.\, C/ Ramón y Cajal 3\, Valladolid\, valladolid\, España
CATEGORIES:Cursos
ATTACH;FMTTYPE=image/jpeg:https://sborl.es/wp-content/uploads/2022/03/valladolid_20.jpg
END:VEVENT
BEGIN:VEVENT
DTSTART;TZID=Europe/Paris:20240418T080000
DTEND;TZID=Europe/Paris:20240419T170000
DTSTAMP:20260420T121055
CREATED:20240320T093457Z
LAST-MODIFIED:20240320T093525Z
UID:24399-1713427200-1713546000@sborl.es
SUMMARY:Reunión de primavera de la comision de oncologia y cirugia de cabeza y cuello de la SEORL
DESCRIPTION:* ESTE EVENTO NO ESTÁ ORGANIZADO POR SBORL \nDesde la Comisión de Oncología y Cirugía de Cabeza y Cuello os queremos invitar a la VII Reunión de Primavera que se celebrará en Palma de Mallorca los días 18 y 19 de abril de 2024.\nContaremos con un profesorado de alto nivel nacional. ¡Formato 100% presencial! \n 
URL:https://sborl.es/event/reunion-de-primavera-de-la-comision-de-oncologia-y-cirugia-de-cabeza-y-cuello-de-la-seorl/
LOCATION:Auditorium Palma de Mallorca\, Av. de Gabriel Roca\, 18\, palma de mallorca\, 07014
CATEGORIES:Reunión
ATTACH;FMTTYPE=image/jpeg:https://sborl.es/wp-content/uploads/2015/11/Mallorca.jpg
END:VEVENT
BEGIN:VEVENT
DTSTART;TZID=Europe/Paris:20240419T080000
DTEND;TZID=Europe/Paris:20240420T170000
DTSTAMP:20260420T121055
CREATED:20240320T093722Z
LAST-MODIFIED:20240320T093743Z
UID:24403-1713513600-1713632400@sborl.es
SUMMARY:XXI Curso de Microcirugía Vasculonerviosa
DESCRIPTION:* ESTE EVENTO NO ESTÁ ORGANIZADO POR SBORL \nPREINSCRIPCIÓN\nLos interesados pueden formalizar su preinscripción dirigiéndose a la Dra. Carmen Calles:\nCorreo electrónico: carmen.calles@ufv.es\nTelf.: 91 709 14 00. Ext: 1761 \n 
URL:https://sborl.es/event/xxi-curso-de-microcirugia-vasculonerviosa/
LOCATION:Asturias
CATEGORIES:Cursos
ATTACH;FMTTYPE=image/jpeg:https://sborl.es/wp-content/uploads/2021/05/Madrid.jpg
END:VEVENT
END:VCALENDAR