BEGIN:VCALENDAR
VERSION:2.0
PRODID:-//SBORL | Sociedad Balear de Otorrinolaringología - ECPv6.2.3//NONSGML v1.0//EN
CALSCALE:GREGORIAN
METHOD:PUBLISH
X-WR-CALNAME:SBORL | Sociedad Balear de Otorrinolaringología
X-ORIGINAL-URL:http://sborl.es
X-WR-CALDESC:Eventos para SBORL | Sociedad Balear de Otorrinolaringología
REFRESH-INTERVAL;VALUE=DURATION:PT1H
X-Robots-Tag:noindex
X-PUBLISHED-TTL:PT1H
BEGIN:VTIMEZONE
TZID:Europe/Paris
BEGIN:DAYLIGHT
TZOFFSETFROM:+0100
TZOFFSETTO:+0200
TZNAME:CEST
DTSTART:20240331T010000
END:DAYLIGHT
BEGIN:STANDARD
TZOFFSETFROM:+0200
TZOFFSETTO:+0100
TZNAME:CET
DTSTART:20241027T010000
END:STANDARD
END:VTIMEZONE
BEGIN:VEVENT
DTSTART;TZID=Europe/Paris:20240901T080000
DTEND;TZID=Europe/Paris:20240901T170000
DTSTAMP:20260420T104411
CREATED:20240609T192628Z
LAST-MODIFIED:20240609T192628Z
UID:24467-1725177600-1725210000@sborl.es
SUMMARY:Multidisciplinary Anatomical Orbital & External Paranasal Sinus Dissection Course
DESCRIPTION:* ESTE EVENTO NO ESTÁ ORGANIZADO POR SBORL \nClínica Clarós Laboratory practice on hands-on dissection\, lecture\, and video-based course aimed at senior trainees\, fellows\, and junior consultants in Ophthalmology\, Neurosurgery\, Maxillofacial\, Otorhinolaryngology\, and Facial Plastic Surgery. Under the guidance of a very experienced surgical faculty\, course participants will perform dissections on fresh cadaver specimens and will have the opportunity to enhance their knowledge regarding surgery of the orbit and paranasal sinus using demonstrative techniques and applications on clinical cases. \nThe Lab has 16 fully equipped work stations\, microscopes\, set of instruments\, and state-of-the-art micro drilling systems. Since 1983\, we have had the opportunity of training more than 3000 residents and specialists from Spain and different countries around the world in our Permanent Temporal Dissection Laboratory\, and we are now innovating this new Multidisciplinary Orbital Approach on human specimens. We know what each participant needs. \n  \n  \n Program \n  \n  \n* Los contenidos de esta Web tienen una finalidad básicamente informativa y dirigida a un público en general. El acceso a esta información\, no garantiza que la misma\, así como sus textos\, gráficos o vínculos\, sean exactos o completos. SBORL\, no se hace responsable de los cualquier cambio que se produzca en dicho evento\, para mas información póngase en contacto con la empresa organizadora del evento.
URL:http://sborl.es/event/multidisciplinary-anatomical-orbital-external-paranasal-sinus-dissection-course/
LOCATION:Permanent Instructional Temporal Bone Laboratory Centro Médico-Dental Clarós\, Calle Rajoleria\, 12\, VILADECANS barcelona\, Cataluña\, 08840\, España
CATEGORIES:Cursos
ATTACH;FMTTYPE=image/jpeg:http://sborl.es/wp-content/uploads/2018/08/Barcelona.jpg
END:VEVENT
BEGIN:VEVENT
DTSTART;TZID=Europe/Paris:20240906T080000
DTEND;TZID=Europe/Paris:20240907T170000
DTSTAMP:20260420T104411
CREATED:20240609T194818Z
LAST-MODIFIED:20240609T194818Z
UID:24470-1725609600-1725728400@sborl.es
SUMMARY:Congreso de la Sociedad Hispano-Alemana de ORL
DESCRIPTION:* ESTE EVENTO NO ESTÁ ORGANIZADO POR SBORL \nLa Sociedad desea promocionar las relaciones entre la Otorrinolaringología española y alemana. Para nuestra Sociedad constituye una meta el acrecentar y unir estrechamente estos contactos dentro de nuestra Especialidad. Pero también es nuestra meta\, no circunscribirnos solamente a Alemania y España\, sino servir de puente para todos aquellos que de una forma u otra utilizan el idioma alemán o español como lengua materna o como medio de comunicación científica. \nLa celebración de un congreso bianual con comunicaciones clínicas y científicas proporciona el soporte a nuestro propósito. Tenemos la convicción que la Medicina Europea solo podrá mantener su posición puntera partiendo conjuntamente de las ricas y múltiples raíces de nuestras tradiciones que aportan los elementos necesarios para desarrollar nuevas y fructíferas ideas. \n  \n Program \n  \n  \n* Los contenidos de esta Web tienen una finalidad básicamente informativa y dirigida a un público en general. El acceso a esta información\, no garantiza que la misma\, así como sus textos\, gráficos o vínculos\, sean exactos o completos. SBORL\, no se hace responsable de los cualquier cambio que se produzca en dicho evento\, para mas información póngase en contacto con la empresa organizadora del evento.
URL:http://sborl.es/event/congreso-de-la-sociedad-hispano-alemana-de-orl/
LOCATION:viena\, Viena
CATEGORIES:Congresos
ATTACH;FMTTYPE=image/jpeg:http://sborl.es/wp-content/uploads/2024/06/viena.jpg
END:VEVENT
BEGIN:VEVENT
DTSTART;TZID=Europe/Paris:20240912T080000
DTEND;TZID=Europe/Paris:20240913T170000
DTSTAMP:20260420T104411
CREATED:20240609T201007Z
LAST-MODIFIED:20240609T201007Z
UID:24475-1726128000-1726246800@sborl.es
SUMMARY:II Curso Teorico-practico insercion Implante Coclear
DESCRIPTION:* ESTE EVENTO NO ESTÁ ORGANIZADO POR SBORL \nCurso acreditado por Osakidetza con 1’3 créditos \nPonentes\n• Dr. Xabier Altuna. (Jefe de Servicio de ORL del Hospital Universitario Donostia).\n• Dr. Jorge Alberto Rey. (FEA del Servicio de ORL del Hospital Universitario Donostia).\n• Dra. Maria Soriano. (FEA del Servicio de ORL del Hospital Universitario Donostia).\n• Sara de Torres. (Especialista clínica Área Implantes. GAES médica grupo Amplifon). \n  \n Program \n  \n  \n* Los contenidos de esta Web tienen una finalidad básicamente informativa y dirigida a un público en general. El acceso a esta información\, no garantiza que la misma\, así como sus textos\, gráficos o vínculos\, sean exactos o completos. SBORL\, no se hace responsable de los cualquier cambio que se produzca en dicho evento\, para mas información póngase en contacto con la empresa organizadora del evento.
URL:http://sborl.es/event/ii-curso-teorico-practico-insercion-implante-coclear/
LOCATION:Hospital Universitario Donostia\, Begiristain Doktorea Pasealekua\, 20014 Donostia\, España
CATEGORIES:Cursos
ATTACH;FMTTYPE=image/jpeg:http://sborl.es/wp-content/uploads/2016/10/San_Sebastian_Sborl_otorrino.jpg
END:VEVENT
BEGIN:VEVENT
DTSTART;TZID=Europe/Paris:20240916T080000
DTEND;TZID=Europe/Paris:20240917T170000
DTSTAMP:20260420T104411
CREATED:20240609T202345Z
LAST-MODIFIED:20240609T202345Z
UID:24480-1726473600-1726592400@sborl.es
SUMMARY:Septal perforation repair "State of the Art"
DESCRIPTION:* ESTE EVENTO NO ESTÁ ORGANIZADO POR SBORL \nOver the past two decades\, there has been a hug evolution in the way in which septal perforation with endoscopic techniques are approached and managed. This course represents a current state of the art in septal perforation repair.\nDuring one complete day\, an update will be presented by our faculties on anatomy\, blood supply\, pedicle septal flaps\, and lateral wall pedicle flaps.\nAnother hands-on day\, where delegates will practice all different approaches to repair septal perforation under our supervision.\nFor those attending complete course\, the Thieme book on “Nasoseptal perforation” will be delivered for free to each delegate.\nComplete specimen (both nasal cavities) will be available for each delegate.  \n  \n Program \n  \n  \n* Los contenidos de esta Web tienen una finalidad básicamente informativa y dirigida a un público en general. El acceso a esta información\, no garantiza que la misma\, así como sus textos\, gráficos o vínculos\, sean exactos o completos. SBORL\, no se hace responsable de los cualquier cambio que se produzca en dicho evento\, para mas información póngase en contacto con la empresa organizadora del evento.
URL:http://sborl.es/event/septal-perforation-repair-state-of-the-art/
LOCATION:Anatomy department\, Medicine School\, Universitat de Barcelona.\, c/ Casanova\, 143\, Barcelona\, España
CATEGORIES:Cursos
ATTACH;FMTTYPE=image/jpeg:http://sborl.es/wp-content/uploads/2024/06/barcelona_5.jpg
END:VEVENT
BEGIN:VEVENT
DTSTART;TZID=Europe/Paris:20240916T080000
DTEND;TZID=Europe/Paris:20240920T170000
DTSTAMP:20260420T104411
CREATED:20240609T203104Z
LAST-MODIFIED:20240609T220851Z
UID:24485-1726473600-1726851600@sborl.es
SUMMARY:EACMFS XXVII Congress. European Association for Cranio Maxillo Facial Surgery
DESCRIPTION:* ESTE EVENTO NO ESTÁ ORGANIZADO POR SBORL \nOn behalf of the EACMFS and the Organizing Committee may I say how delighted we are to invite you to the 27th EACMFS Congress to be held in Rome\, Italy\, on 16-20 September\, 2024.\n \nOral and Cranio-Maxillo-Facial Surgery  (OMF & CMF)  has a rich history and its evolution has been dramatic as today the Specialty takes the lead among the related disciplines in a fully integrated interdisciplinary patient care system.\n \nThe EACMFS has become the most prominent and highly respected professional group for the Specialty in Europe. Additionally\, with a high profile in other parts of the World it has been possible to coordinate actions in favour of OMF & CMF at a European and National level in order to advance the standards of care through improved education and training.\n \nThe 27th EACMFS Congress in Rome aims to be the premier international forum for research\, theory and development related to Oral and Maxillo-Facial Surgery in the forthcoming years. The five day programme will encompass key note presentations\, symposia\, masterclasses and free papers as well as offer an exhibition showcasing the most recent products and services available.\n \nRome will provide an unforgettable setting for this important event as Europe is a unique blend of cultures and this occasion provides a particular opportunity to share those cultures\, benefit from the wealth of education and talent that exists in our countries and above all\, join together in a spirit of friendship and cooperation.\n \nThe Congress Venue\, Rome Convention Center “La Nuvola”\, is one of the most iconic buildings in the entire City of Rome.\n \nThis visionary building by Massimiliano Fuksas was inaugurated on the 29th of October 2016 and since then it has been acknowledged worldwide as a fine example of contemporary aesthetics\, characterized by eco-friendly materials and innovative technological solutions. The project is based on the interaction of three elements: the Case\, the Cloud and the Hotel. The Cloud is undoubtedly the most characteristic architectural element: the structure\, with its extraordinary visual effect\, floats in a 40-meter-high steel and glass case\, 70 wide and 175 long. The whole complex is designed to be highly flexible\, being able to host events with vastly different characteristics and with a total capacity of almost 8\,000 seats. “La Nuvola” also includes a 4-star hotel built to measure for the needs of the participants (Headquarter Hotel for the Congress).\n \nOur vision for hosting the EACMFS Rome 2024 is based on using the art of the Italian welcome and lifestyle to unite the world of the scientific communities in OMF & CMF.\n \nI look forward to welcoming you all to the Eternal City and to the EACMFS 2024 Congress. \n  \n Program \n  \n  \n* Los contenidos de esta Web tienen una finalidad básicamente informativa y dirigida a un público en general. El acceso a esta información\, no garantiza que la misma\, así como sus textos\, gráficos o vínculos\, sean exactos o completos. SBORL\, no se hace responsable de los cualquier cambio que se produzca en dicho evento\, para mas información póngase en contacto con la empresa organizadora del evento.
URL:http://sborl.es/event/eacmfs-xxvii-congress-european-association-for-cranio-maxillo-facial-surgery/
LOCATION:CENTRO CONGRESSI ROMA LA NUVOLA\, Viale Asia\, 40 /44\, Roma\, 00144\, Italia
CATEGORIES:Congresos
ATTACH;FMTTYPE=image/jpeg:http://sborl.es/wp-content/uploads/2024/06/roma.jpg
END:VEVENT
BEGIN:VEVENT
DTSTART;TZID=Europe/Paris:20240918T080000
DTEND;TZID=Europe/Paris:20240919T170000
DTSTAMP:20260420T104411
CREATED:20240609T221942Z
LAST-MODIFIED:20240609T221942Z
UID:24494-1726646400-1726765200@sborl.es
SUMMARY:Endoscopic Sinus Surgery Course
DESCRIPTION:* ESTE EVENTO NO ESTÁ ORGANIZADO POR SBORL \nCourse Directors\n* Isam Alobid Manuel\n* Bernal Sprekelsen\n* Cristobal Langdon\nMás información: https://endoent.com/ \n  \n Programa \n  \n  \n* Los contenidos de esta Web tienen una finalidad básicamente informativa y dirigida a un público en general. El acceso a esta información\, no garantiza que la misma\, así como sus textos\, gráficos o vínculos\, sean exactos o completos. SBORL\, no se hace responsable de los cualquier cambio que se produzca en dicho evento\, para mas información póngase en contacto con la empresa organizadora del evento.
URL:http://sborl.es/event/endoscopic-sinus-surgery-course-2/
LOCATION:Anatomy department\, Medicine School\, Universitat de Barcelona.\, c/ Casanova\, 143\, Barcelona\, España
CATEGORIES:Cursos
ATTACH;FMTTYPE=image/jpeg:http://sborl.es/wp-content/uploads/2019/10/barcelona_bcn.jpg
END:VEVENT
BEGIN:VEVENT
DTSTART;TZID=Europe/Paris:20240918T080000
DTEND;TZID=Europe/Paris:20240920T170000
DTSTAMP:20260420T104411
CREATED:20240609T221451Z
LAST-MODIFIED:20240609T221451Z
UID:24492-1726646400-1726851600@sborl.es
SUMMARY:Curso avanzado de Diseccion de Hueso Temporal Mastering the Mastoid
DESCRIPTION:* ESTE EVENTO NO ESTÁ ORGANIZADO POR SBORL \nEste Curso Avanzado de tres días de Cirugía de Mastoides y de Base de Cráneo Lateral ofrece a los participantes la gran oportunidad de aprender y practicar las más avanzadas técnicas de Cirugía de Mastoides. Cada alumno dispondrá de una cabeza entera para poder trabajar en ambos lados\, para la práctica quirúrgica donde realizará todas las técnicas para dominar la Mastoides.\nAdemás tendrá la oportunidad de ver en videos quirúrgicos cada una de las técnicas y abordajes.\nCada alumno tendrá un seguimiento estrecho por parte de los monitores de disección\, con amplia experiencia en el campo de la Otología.\nLos cursos de Cirugía de IFMEC están diseñados para que el alumno adquiera habilidades que pueda profesionalizar inmediatamente.\nNuestro objetivo es que la experiencia de los cursos no sólo tenga impacto en el curriculum sino en la práctica clínica diaria. \n  \n Programa \n  \n  \n* Los contenidos de esta Web tienen una finalidad básicamente informativa y dirigida a un público en general. El acceso a esta información\, no garantiza que la misma\, así como sus textos\, gráficos o vínculos\, sean exactos o completos. SBORL\, no se hace responsable de los cualquier cambio que se produzca en dicho evento\, para mas información póngase en contacto con la empresa organizadora del evento.
URL:http://sborl.es/event/curso-avanzado-de-diseccion-de-hueso-temporal-mastering-the-mastoid-4/
LOCATION:FACULTAD DE MEDICINA DE LA UNIV. AUTÓNOMA DE MADRID\, Calle Arzobispo Morcillo\, 4\, Madrid\, Madrid\, 28029\, España
CATEGORIES:Cursos
ATTACH;FMTTYPE=image/jpeg:http://sborl.es/wp-content/uploads/2021/05/madrid-marzo.jpg
END:VEVENT
BEGIN:VEVENT
DTSTART;TZID=Europe/Paris:20240920T080000
DTEND;TZID=Europe/Paris:20240922T170000
DTSTAMP:20260420T104411
CREATED:20240609T222434Z
LAST-MODIFIED:20240609T222506Z
UID:24496-1726819200-1727024400@sborl.es
SUMMARY:Curso teorico practico de CENS motorizada guiada por navegacion con diseccion en cadaver
DESCRIPTION:* ESTE EVENTO NO ESTÁ ORGANIZADO POR SBORL \nCurso-teórico práctico de CENS motorizada guiada por navegación con disección en cadáver \n  \n Programa \n  \n  \n* Los contenidos de esta Web tienen una finalidad básicamente informativa y dirigida a un público en general. El acceso a esta información\, no garantiza que la misma\, así como sus textos\, gráficos o vínculos\, sean exactos o completos. SBORL\, no se hace responsable de los cualquier cambio que se produzca en dicho evento\, para mas información póngase en contacto con la empresa organizadora del evento.
URL:http://sborl.es/event/curso-teorico-practico-de-cens-motorizada-guiada-por-navegacion-con-diseccion-en-cadaver/
LOCATION:Madrid\, España
CATEGORIES:Cursos
ATTACH;FMTTYPE=image/jpeg:http://sborl.es/wp-content/uploads/2022/07/madrid_33.jpeg
END:VEVENT
END:VCALENDAR