BEGIN:VCALENDAR
VERSION:2.0
PRODID:-//SBORL | Sociedad Balear de Otorrinolaringología - ECPv6.2.3//NONSGML v1.0//EN
CALSCALE:GREGORIAN
METHOD:PUBLISH
X-WR-CALNAME:SBORL | Sociedad Balear de Otorrinolaringología
X-ORIGINAL-URL:http://sborl.es
X-WR-CALDESC:Eventos para SBORL | Sociedad Balear de Otorrinolaringología
REFRESH-INTERVAL;VALUE=DURATION:PT1H
X-Robots-Tag:noindex
X-PUBLISHED-TTL:PT1H
BEGIN:VTIMEZONE
TZID:Europe/Paris
BEGIN:DAYLIGHT
TZOFFSETFROM:+0100
TZOFFSETTO:+0200
TZNAME:CEST
DTSTART:20240331T010000
END:DAYLIGHT
BEGIN:STANDARD
TZOFFSETFROM:+0200
TZOFFSETTO:+0100
TZNAME:CET
DTSTART:20241027T010000
END:STANDARD
END:VTIMEZONE
BEGIN:VEVENT
DTSTART;TZID=Europe/Paris:20240223T080000
DTEND;TZID=Europe/Paris:20240224T170000
DTSTAMP:20260422T113900
CREATED:20231222T204943Z
LAST-MODIFIED:20231222T204943Z
UID:24336-1708675200-1708794000@sborl.es
SUMMARY:Reunion Nacional de Invierno de Otoneurologia
DESCRIPTION:* ESTE EVENTO NO ESTÁ ORGANIZADO POR SBORL \nEstimados compañeros;\nTras el éxito de las anteriores reuniones\, donde hemos tenido más de 900 asistentes en la última edición\, nos complace anunciaros la 4ª Reunión de Invierno de Otoneurología (RIO) cuyo formato será también tanto presencial como online.\nEn los últimos años hemos asistido a grandes avances en el campo de la medicina vestibular\, tanto en el diagnóstico como en el tratamiento. Por tanto\, os animamos a todos a asistir y presentar vuestros trabajos de investigación en formato de comunicaciones orales o póster.\nAdemás\, contaremos con mesas redondas\, talleres de trabajo y conferencias sobre temas que nos ayudarán en nuestra práctica clínica.\nLa inscripción presencial y online será gratuita para todos los socios de la SEORL. Dado que existe un número máximo de asistentes presenciales\, tendrán preferencia todos los que presenten sus trabajos. Además\, el alojamiento estará incluido para todos los asistentes que participen con comunicaciones orales por gentileza de nuestros patrocinadores.\n¡Os esperamos a todos de nuevo en Madrid! \n  \nProgram\n  \n* Los contenidos de esta Web tienen una finalidad básicamente informativa y dirigida a un público en general. El acceso a esta información\, no garantiza que la misma\, así como sus textos\, gráficos o vínculos\, sean exactos o completos. SBORL\, no se hace responsable de cualquier cambio que se produzca en dicho evento\, para mas información póngase en contacto con la empresa organizadora del evento.
URL:http://sborl.es/event/reunion-nacional-de-invierno-de-otoneurologia/
LOCATION:Hotel Meliá Avenida América\, c/ Juan Ignacio Luca de Tena\, 36\, Madrid\, Madrid\, España
CATEGORIES:Reunión
ATTACH;FMTTYPE=image/jpeg:http://sborl.es/wp-content/uploads/2019/10/Madrid_saos.jpg
END:VEVENT
END:VCALENDAR