BEGIN:VCALENDAR
VERSION:2.0
PRODID:-//SBORL | Sociedad Balear de Otorrinolaringología - ECPv6.2.3//NONSGML v1.0//EN
CALSCALE:GREGORIAN
METHOD:PUBLISH
X-WR-CALNAME:SBORL | Sociedad Balear de Otorrinolaringología
X-ORIGINAL-URL:http://sborl.es
X-WR-CALDESC:Eventos para SBORL | Sociedad Balear de Otorrinolaringología
REFRESH-INTERVAL;VALUE=DURATION:PT1H
X-Robots-Tag:noindex
X-PUBLISHED-TTL:PT1H
BEGIN:VTIMEZONE
TZID:Europe/Paris
BEGIN:DAYLIGHT
TZOFFSETFROM:+0100
TZOFFSETTO:+0200
TZNAME:CEST
DTSTART:20240331T010000
END:DAYLIGHT
BEGIN:STANDARD
TZOFFSETFROM:+0200
TZOFFSETTO:+0100
TZNAME:CET
DTSTART:20241027T010000
END:STANDARD
END:VTIMEZONE
BEGIN:VEVENT
DTSTART;TZID=Europe/Paris:20240201T080000
DTEND;TZID=Europe/Paris:20240202T170000
DTSTAMP:20260424T112329
CREATED:20231222T195809Z
LAST-MODIFIED:20231222T195809Z
UID:24324-1706774400-1706893200@sborl.es
SUMMARY:XVI Congreso de la Sociedad Valenciana de ORL
DESCRIPTION:* ESTE EVENTO NO ESTÁ ORGANIZADO POR SBORL \nBIENVENIDA\nQueridos socios y participantes.\nEl congreso de nuestra Sociedad se celebrará en el Hotel Jaime I Castellón los días 1 y 2 de febrero en Castellón\, tierra acogedora y de grandes contrastes.\nTanto el Comité Organizador como la Junta Directiva de la Sociedad Valenciana\, esperamos que los temas elegidos sean de vuestro agrado y despierten inquietudes sobre todo en los especialistas jóvenes\, ya que se propone mostrar los puntos clave de nuestra especialidad en los temas elegidos.\nEn nombre de la Junta directiva de la Sociedad y del Comité organizador\, nos gustaría que hubiera la máxima participación y poderos saludar personalmente en este Congreso. \nDra. Marta Faubel Serra\nPresidenta del Comité Organizador \n  \nCOMITÉ ORGANIZADOR XVI CONGRESO SVORL\nPRESIDENTA: Dra. Marta Faubel Serra.\nDra. Laura Albiol Varella.\nDra. Rosana Almela Cortés.\nDra. Mayra Botero Vargas.\nDra. Maria Dolores Costa Climent.\nDr. Iván Doménech Máñez.\nDra. Adriana Lodeiro Costalotti.\nDra. Isabel Lozano Blanco.\nDr. Javier Marcote Icart.\nDra. Catalina Riera Sala.\nDra. Natalia Gordillo Gayo.\nDra. Maria Soriano Mico. \nCOMITÉ ORGANIZADOR Y CIENTÍFICO\nJunta Directiva de la SVORL CCC. \n  \nPrograma\n  \n* Los contenidos de esta Web tienen una finalidad básicamente informativa y dirigida a un público en general. El acceso a esta información\, no garantiza que la misma\, así como sus textos\, gráficos o vínculos\, sean exactos o completos. SBORL\, no se hace responsable de cualquier cambio que se produzca en dicho evento\, para mas información póngase en contacto con la empresa organizadora del evento.
URL:http://sborl.es/event/xvi-congreso-de-la-sociedad-valenciana-de-orl/
LOCATION:Hotel Jaime\, Rda. del Millars\, 67\, Castellon\, Castellón\, 12002\, España
CATEGORIES:Reunión
ATTACH;FMTTYPE=image/jpeg:http://sborl.es/wp-content/uploads/2018/04/Valencia-Sborl.jpg
END:VEVENT
END:VCALENDAR