BEGIN:VCALENDAR
VERSION:2.0
PRODID:-//SBORL | Sociedad Balear de Otorrinolaringología - ECPv6.2.3//NONSGML v1.0//EN
CALSCALE:GREGORIAN
METHOD:PUBLISH
X-ORIGINAL-URL:http://sborl.es
X-WR-CALDESC:Eventos para SBORL | Sociedad Balear de Otorrinolaringología
REFRESH-INTERVAL;VALUE=DURATION:PT1H
X-Robots-Tag:noindex
X-PUBLISHED-TTL:PT1H
BEGIN:VTIMEZONE
TZID:Europe/Paris
BEGIN:DAYLIGHT
TZOFFSETFROM:+0100
TZOFFSETTO:+0200
TZNAME:CEST
DTSTART:20240331T010000
END:DAYLIGHT
BEGIN:STANDARD
TZOFFSETFROM:+0200
TZOFFSETTO:+0100
TZNAME:CET
DTSTART:20241027T010000
END:STANDARD
END:VTIMEZONE
BEGIN:VEVENT
DTSTART;TZID=Europe/Paris:20240129T080000
DTEND;TZID=Europe/Paris:20240129T170000
DTSTAMP:20260424T124604
CREATED:20231222T194513Z
LAST-MODIFIED:20231222T194758Z
UID:24319-1706515200-1706547600@sborl.es
SUMMARY:Reunion Invernal de Otologia (REINO)
DESCRIPTION:* ESTE EVENTO NO ESTÁ ORGANIZADO POR SBORL \nQuerido compañero/a y amigo/a:\nUna vez finalizada la XXIV Reunión Invernal de Otología queremos darte las gracias por tu participación y anunciarte los temas elegidos para la próxima edición\, que coincide con el XXV aniversario del REINO:\n* Actualización del síndrome de Ménière\n* Colesteatoma\n* Manejo de la hipoacusia mixta\n* Cirugía estapedial\n* XXV años del REINO\nPor otra parte\, anunciarte que las fechas previstas para la celebración de la XXV edición de el REINO son del 29 de enero al 2 de febrero de 2024. Esperamos poder tenerte con nosotros en esta nueva Edición-Aniversario del REINO\nTe reiteramos nuestro agradecimiento por tu participación en esta reunión al mismo tiempo que quedamos a tu disposición para cualquier cuestión que se te pueda plantear.\nUn fuerte abrazo\,\nCarlos Cenjor\nManuel Manrique\nÁngel Ramos\nRaquel Manrique\nRubén Polo\nMaría José Lavilla \n  \nPrograma\n  \n* Los contenidos de esta Web tienen una finalidad básicamente informativa y dirigida a un público en general. El acceso a esta información\, no garantiza que la misma\, así como sus textos\, gráficos o vínculos\, sean exactos o completos. SBORL\, no se hace responsable de cualquier cambio que se produzca en dicho evento\, para mas información póngase en contacto con la empresa organizadora del evento.
URL:http://sborl.es/event/reunion-invernal-de-otologia-reino/
LOCATION:huesca\, Huesca\, España
CATEGORIES:Reunión
ATTACH;FMTTYPE=image/jpeg:http://sborl.es/wp-content/uploads/2021/12/Huesca.jpg
END:VEVENT
END:VCALENDAR