BEGIN:VCALENDAR
VERSION:2.0
PRODID:-//SBORL | Sociedad Balear de Otorrinolaringología - ECPv6.2.3//NONSGML v1.0//EN
CALSCALE:GREGORIAN
METHOD:PUBLISH
X-WR-CALNAME:SBORL | Sociedad Balear de Otorrinolaringología
X-ORIGINAL-URL:http://sborl.es
X-WR-CALDESC:Eventos para SBORL | Sociedad Balear de Otorrinolaringología
REFRESH-INTERVAL;VALUE=DURATION:PT1H
X-Robots-Tag:noindex
X-PUBLISHED-TTL:PT1H
BEGIN:VTIMEZONE
TZID:Europe/Paris
BEGIN:DAYLIGHT
TZOFFSETFROM:+0100
TZOFFSETTO:+0200
TZNAME:CEST
DTSTART:20240331T010000
END:DAYLIGHT
BEGIN:STANDARD
TZOFFSETFROM:+0200
TZOFFSETTO:+0100
TZNAME:CET
DTSTART:20241027T010000
END:STANDARD
END:VTIMEZONE
BEGIN:VEVENT
DTSTART;TZID=Europe/Paris:20241001T080000
DTEND;TZID=Europe/Paris:20241004T170000
DTSTAMP:20260420T114845
CREATED:20240924T043652Z
LAST-MODIFIED:20240924T043652Z
UID:24507-1727769600-1728061200@sborl.es
SUMMARY:XII Curso intensivo de colgajos en cirugia reconstructiva
DESCRIPTION:* ESTE EVENTO NO ESTÁ ORGANIZADO POR SBORL \nDESCRIPCIÓN\nEl programa incluye la disección en cadáver humano conservados en técnica de Thiel\, de los colgajos más habituales en cirugía reconstructiva\, especialmente aquellos más utilizados en la cirugía de cabeza y cuello.\nDIRIGIDO A\nSerá de especial interés para residentes y especialistas de cirugía maxilofacial\, cirugía de cabeza y cuello\, cirugía plástica\, otorrinolaringología y traumatología.\nMETODOLOGÍA PRÁCTICA\nTras la explicación teórica apoyada con vídeos en 3D y la demostración de la disección en cadáver\, el alumno podrá llevar a cabo la disección de los colgajos\, bajo la estrecha supervisión del profesorado.\nGRUPOS REDUCIDOS*\nHabrá un máximo de cuatro alumnos por cadáver\, para que todo el alumnado pueda llevar a cabo o asistir en la elevación de cada uno de los colgajos.\n* En función de cicatrices y cirugías previas en el donante \n  \nPrograma\n  \n  \n* Los contenidos de esta Web tienen una finalidad básicamente informativa y dirigida a un público en general. El acceso a esta información\, no garantiza que la misma\, así como sus textos\, gráficos o vínculos\, sean exactos o completos. SBORL\, no se hace responsable de los cualquier cambio que se produzca en dicho evento\, para mas información póngase en contacto con la empresa organizadora del evento.
URL:http://sborl.es/event/xii-curso-intensivo-de-colgajos-en-cirugia-reconstructiva/
LOCATION:Hospital La Paz – Madrid\, Paseo de la Castellana\, 261\, Madrid\, Madrid\, 28046
CATEGORIES:Cursos
ATTACH;FMTTYPE=image/jpeg:http://sborl.es/wp-content/uploads/2019/10/Madrid_saos.jpg
END:VEVENT
BEGIN:VEVENT
DTSTART;TZID=Europe/Paris:20241002T080000
DTEND;TZID=Europe/Paris:20241004T170000
DTSTAMP:20260420T114845
CREATED:20240924T044214Z
LAST-MODIFIED:20240924T044638Z
UID:24509-1727856000-1728061200@sborl.es
SUMMARY:SIALOSS Curso practico de Sialoendoscopia
DESCRIPTION:* ESTE EVENTO NO ESTÁ ORGANIZADO POR SBORL \n 8º Curso Práctico de Sialoendoscopia San Sebastián 2-4 Octubre 2023\nLa octava edición del curso de sialoendoscopia SIALOSS2024  se celebrará los días 2 al 4 de Octubre de 2024 en San Sebastián. Conoceremos la técnica que ha cambiado la forma de tratar la patología obstructiva salival: cómo desarrollar una unidad de sialoendoscopia\, cómo superar las dificultades de la técnica\, cuáles son sus aplicaciones… Cirujanos expertos en esta técnica presentarán su experiencia y debatirán sobre diagnóstico\, indicaciones\, material\, técnica quirúrgica y complicaciones. Inicio del curso día 2 de octubre a las 16h\, finalización 4 de octubre a las 15h. \nTALLER PRÁCTICO \nCentro de investigación sanitaria Biogipuzkoa Paseo Dr Begiristain s/n San Sebastián www.biodonostia.org Los asistentes tendrán la oportunidad de practicar la técnica con las ópticas de sialoendoscopia en cabezas de cerdo preparadas a tal efecto. Podremos practicar técnicas de acceso y navegación por el sistema ductal\, el uso de puertos de acceso\, cestas de dormia para captura de sialolitos y las técnicas de disección del conducto en los abordajes combinados. 12 puestos con todo el material necesario para completar los procedimientos estarán disponibles para un máximo de 24 cursillistas \n  \n Program \n  \n  \n* Los contenidos de esta Web tienen una finalidad básicamente informativa y dirigida a un público en general. El acceso a esta información\, no garantiza que la misma\, así como sus textos\, gráficos o vínculos\, sean exactos o completos. SBORL\, no se hace responsable de los cualquier cambio que se produzca en dicho evento\, para mas información póngase en contacto con la empresa organizadora del evento.
URL:http://sborl.es/event/sialoss-curso-practico-de-sialoendoscopia/
LOCATION:San Sebastián\, San Sebastian\, 20007\, España
CATEGORIES:Cursos
ATTACH;FMTTYPE=image/jpeg:http://sborl.es/wp-content/uploads/2022/07/san_sebastian.jpg
END:VEVENT
END:VCALENDAR